Workbook

Sheet Parameters
A1: Enter component values below. Observe units!
A2: Vsupply (Volts) | B2: Ra (Ohms) | C2: Rk (Ohms) | D2: Ck (uF) | E2: Rg (Ohms) | F2: Cf (pF) | G2: Rl (Ohms) | H2: Co (nF)
A3: 240 | B3: 100000 | C3: 1500 | D3: 22 | E3: 1000000 | F3: 1.6 | G3: 220000 | H3: 22
D6: The Load Line Plotter
D7: By The Valve Wizard
E11: Bypassed Cathode Only | I11: Unbypassed Cathode Only
B12: HF roll-off due to grid stopping (-3dB) (Hz) | C12: LF output roll-off due to Co and Rl (-3dB) (Hz) | D12: Half-boost frequency (Hz) | E12: Voltage Gain | F12: dB Gain | G12: Anode output impedance (Ohms) | H12: Total input capacitance (pF) | I12: Voltage Gain | J12: dB Gain | K12: Anode output impedance (Ohms) | L12: Cathode ouput impedance (Ohms) | M12: Total input capacitance (pF)
A13: ECC81 | B13: =1/(2*PI()*(H13/1000000000000)*$E$3) -> 948.38255 | C13: =1/(2*PI()*(G13+$G$3)*($H$3/1000000000)) -> 31.465871 | D13: =(1/(2*PI()*$C$3*($D$3/1000000)))*(1+(($C$3*'Valve Spec'!D2+1)/((2*($B$3+'Valve Spec'!E2))+(0.5*(Parameters!$C$3*'Valve Spec'!D2+1)))))^0.5 -> 5.5768014 | E13: =('Valve Spec'!D2*(1/((1/$B$3)+(1/$G$3))))/((1/((1/$B$3)+(1/$G$3)))+'Valve Spec'!E2) -> 51.724138 | F13: =(LOG10(E13))*20 -> 34.273865 | G13: =($B$3*'Valve Spec'!E2)/(Parameters!$B$3+'Valve Spec'!E2) -> 9909.9099 | H13: ='Valve Spec'!G2+(($F$3+'Valve Spec'!F2)*E13) -> 167.81724 | I13: =('Valve Spec'!D2*(1/((1/$B$3)+(1/$G$3))))/((1/((1/$B$3)+(1/$G$3)))+'Valve Spec'!E2+($C$3*('Valve Spec'!D2+1))) -> 24.087591 | J13: =(LOG10(I13))*20 -> 27.635867 | K13: =($B$3*('Valve Spec'!E2+($C$3*('Valve Spec'!D2+1))))/(Parameters!$B$3+'Valve Spec'!E2+($C$3*('Valve Spec'!D2+1))) -> 50617.284 | L13: =1/((1/(($B$3+'Valve Spec'!E2)/('Valve Spec'!D2+1)))+(1/$C$3)) -> 822.22222 | M13: ='Valve Spec'!G2+(($F$3+'Valve Spec'!F2)*I13) -> 79.380292
A14: ECC82 | B14: =1/(2*PI()*(H14/1000000000000)*$E$3) -> 2909.6802 | C14: =1/(2*PI()*(G14+$G$3)*($H$3/1000000000)) -> 31.836186 | D14: =(1/(2*PI()*$C$3*($D$3/1000000)))*(1+(($C$3*'Valve Spec'!D3+1)/((2*($B$3+'Valve Spec'!E3))+(0.5*(Parameters!$C$3*'Valve Spec'!D3+1)))))^0.5 -> 5.113155 | E14: =('Valve Spec'!D3*(1/((1/$B$3)+(1/$G$3))))/((1/((1/$B$3)+(1/$G$3)))+'Valve Spec'!E3) -> 17.06401 | F14: =(LOG10(E14))*20 -> 24.641622 | G14: =($B$3*'Valve Spec'!E3)/(Parameters!$B$3+'Valve Spec'!E3) -> 7235.6215 | H14: ='Valve Spec'!G3+(($F$3+'Valve Spec'!F3)*E14) -> 54.698432 | I14: =('Valve Spec'!D3*(1/((1/$B$3)+(1/$G$3))))/((1/((1/$B$3)+(1/$G$3)))+'Valve Spec'!E3+($C$3*('Valve Spec'!D3+1))) -> 12.259503 | J14: =(LOG10(I14))*20 -> 21.769457 | K14: =($B$3*('Valve Spec'!E3+($C$3*('Valve Spec'!D3+1))))/(Parameters!$B$3+'Valve Spec'!E3+($C$3*('Valve Spec'!D3+1))) -> 27431.06 | L14: =1/((1/(($B$3+'Valve Spec'!E3)/('Valve Spec'!D3+1)))+(1/$C$3)) -> 1173.4398 | M14: ='Valve Spec'!G3+(($F$3+'Valve Spec'!F3)*I14) -> 39.804458
A15: ECC83 | B15: =1/(2*PI()*(H15/1000000000000)*$E$3) -> 940.52617 | C15: =1/(2*PI()*(G15+$G$3)*($H$3/1000000000)) -> 27.989912 | D15: =(1/(2*PI()*$C$3*($D$3/1000000)))*(1+(($C$3*'Valve Spec'!D4+1)/((2*($B$3+'Valve Spec'!E4))+(0.5*(Parameters!$C$3*'Valve Spec'!D4+1)))))^0.5 -> 5.6553288 | E15: =('Valve Spec'!D4*(1/((1/$B$3)+(1/$G$3))))/((1/((1/$B$3)+(1/$G$3)))+'Valve Spec'!E4) -> 52.380952 | F15: =(LOG10(E15))*20 -> 34.383468 | G15: =($B$3*'Valve Spec'!E4)/(Parameters!$B$3+'Valve Spec'!E4) -> 38461.538 | H15: ='Valve Spec'!G4+(($F$3+'Valve Spec'!F4)*E15) -> 169.21905 | I15: =('Valve Spec'!D4*(1/((1/$B$3)+(1/$G$3))))/((1/((1/$B$3)+(1/$G$3)))+'Valve Spec'!E4+($C$3*('Valve Spec'!D4+1))) -> 24.314766 | J15: =(LOG10(I15))*20 -> 27.717402 | K15: =($B$3*('Valve Spec'!E4+($C$3*('Valve Spec'!D4+1))))/(Parameters!$B$3+'Valve Spec'!E4+($C$3*('Valve Spec'!D4+1))) -> 68152.866 | L15: =1/((1/(($B$3+'Valve Spec'!E4)/('Valve Spec'!D4+1)))+(1/$C$3)) -> 776.27389 | M15: ='Valve Spec'!G4+(($F$3+'Valve Spec'!F4)*I15) -> 79.40725
A16: E88CC | B16: =1/(2*PI()*(H16/1000000000000)*$E$3) -> 1617.0071 | C16: =1/(2*PI()*(G16+$G$3)*($H$3/1000000000)) -> 32.50186 | D16: =(1/(2*PI()*$C$3*($D$3/1000000)))*(1+(($C$3*'Valve Spec'!D5+1)/((2*($B$3+'Valve Spec'!E5))+(0.5*(Parameters!$C$3*'Valve Spec'!D5+1)))))^0.5 -> 5.3164963 | E16: =('Valve Spec'!D5*(1/((1/$B$3)+(1/$G$3))))/((1/((1/$B$3)+(1/$G$3)))+'Valve Spec'!E5) -> 31.77521 | F16: =(LOG10(E16))*20 -> 30.041769 | G16: =($B$3*'Valve Spec'!E5)/(Parameters!$B$3+'Valve Spec'!E5) -> 2581.5879 | H16: ='Valve Spec'!G5+(($F$3+'Valve Spec'!F5)*E16) -> 98.42563 | I16: =('Valve Spec'!D5*(1/((1/$B$3)+(1/$G$3))))/((1/((1/$B$3)+(1/$G$3)))+'Valve Spec'!E5+($C$3*('Valve Spec'!D5+1))) -> 18.535539 | J16: =(LOG10(I16))*20 -> 25.360104 | K16: =($B$3*('Valve Spec'!E5+($C$3*('Valve Spec'!D5+1))))/(Parameters!$B$3+'Valve Spec'!E5+($C$3*('Valve Spec'!D5+1))) -> 34917.019 | L16: =1/((1/(($B$3+'Valve Spec'!E5)/('Valve Spec'!D5+1)))+(1/$C$3)) -> 1002.1152 | M16: ='Valve Spec'!G5+(($F$3+'Valve Spec'!F5)*I16) -> 58.706618
A17: 12AY7 | B17: =1/(2*PI()*(H17/1000000000000)*$E$3) -> 1619.0737 | C17: =1/(2*PI()*(G17+$G$3)*($H$3/1000000000)) -> 30.142982 | D17: =(1/(2*PI()*$C$3*($D$3/1000000)))*(1+(($C$3*'Valve Spec'!D6+1)/((2*($B$3+'Valve Spec'!E6))+(0.5*(Parameters!$C$3*'Valve Spec'!D6+1)))))^0.5 -> 5.3558233 | E17: =('Valve Spec'!D6*(1/((1/$B$3)+(1/$G$3))))/((1/((1/$B$3)+(1/$G$3)))+'Valve Spec'!E6) -> 32.266667 | F17: =(LOG10(E17))*20 -> 30.175082 | G17: =($B$3*'Valve Spec'!E6)/(Parameters!$B$3+'Valve Spec'!E6) -> 20000 | H17: ='Valve Spec'!G6+(($F$3+'Valve Spec'!F6)*E17) -> 98.3 | I17: =('Valve Spec'!D6*(1/((1/$B$3)+(1/$G$3))))/((1/((1/$B$3)+(1/$G$3)))+'Valve Spec'!E6+($C$3*('Valve Spec'!D6+1))) -> 18.75969 | J17: =(LOG10(I17))*20 -> 25.464513 | K17: =($B$3*('Valve Spec'!E6+($C$3*('Valve Spec'!D6+1))))/(Parameters!$B$3+'Valve Spec'!E6+($C$3*('Valve Spec'!D6+1))) -> 48051.948 | L17: =1/((1/(($B$3+'Valve Spec'!E6)/('Valve Spec'!D6+1)))+(1/$C$3)) -> 974.02597 | M17: ='Valve Spec'!G6+(($F$3+'Valve Spec'!F6)*I17) -> 57.77907

Sheet Valve Spec
B1: Pmax (W) | C1: Va max (V) | D1: mu | E1: ra (Ohms) | F1: Cga (pF) | G1: Cg to all except anode (pF)
A2: ECC81 | B2: 2.5 | C2: 300 | D2: 60 | E2: 11000 | F2: 1.6 | G2: 2.3 | H2: You may alter any of these values to suit the bias point you're using, but do not change the units.
A3: ECC82 | B3: 2.75 | C3: 300 | D3: 19 | E3: 7800 | F3: 1.5 | G3: 1.8
A4: ECC83 | B4: 1 | C4: 300 | D4: 100 | E4: 62500 | F4: 1.6 | G4: 1.6
A5: E88CC | B5: 1.5 | C5: 220 | D5: 33 | E5: 2650 | F5: 1.4 | G5: 3.1
A6: 12AY7 | B6: 1.65 | C6: 330 | D6: 44 | E6: 25000 | F6: 1.4 | G6: 1.5

Sheet Graph Data
A1: Graph data, do not alter.
B3: X Va (V) | C3: 0 | D3: 25 | E3: 50 | F3: 75 | G3: 100 | H3: 125 | I3: 150 | J3: 175 | K3: 200 | L3: 226.1 | M3: 250 | N3: 275 | O3: 300 | P3: 325 | Q3: 350 | R3: 375 | S3: 400 | T3: 425 | U3: 450 | V3: 475 | W3: 500 | Z3: Polynomial coefficients | AD3: Cathode load line
A4: ECC81 | Z4: a | AA4: b | AB4: c | AC4: c-Y | AD4: Ia | AE4: Va
A5: Ia (mA) | B5: Vg =0 | C5: 0 | D5: 2 | E5: 4 | F5: 6 | G5: 8.2 | H5: 10.5 | I5: 13.2 | J5: 16 | K5: 19 | L5: 22 | M5: 25 | Z5: {=LINEST(C3:M3, C5:M5^{1;2})} -> -0.12151384 | AA5: 12.941106 | AB5: 0.55385931 | AC5: =AB5-AD5 -> 0.55385931 | AD5: =0/Parameters!$C$3*1000 -> 0 | AE5: 0
B6: -1 | C6: 0 | D6: 0.2 | E6: 1 | F6: 2 | G6: 3.3 | H6: 4.83 | I6: 6.78 | J6: 8.87 | K6: 11.18 | L6: 14 | M6: 16.8 | N6: 19.83 | Z6: {=LINEST(C6:N6, C3:N3^{1;2})} -> 0.00021867551 | AA6: 0.012904184 | AB6: -0.1483947 | AC6: =AB6-AD6 -> -0.81506137 | AD6: =-B6/Parameters!$C$3*1000 -> 0.66666667 | AE6: =(-AA6+(AA6^2-4*Z6*AC6)^0.5)/(2*Z6) -> 38.301963
B7: -2 | E7: 0 | F7: 0.3 | G7: 0.9 | H7: 1.73 | I7: 2.83 | J7: 4.2 | K7: 5.91 | L7: 7.93 | M7: 10 | N7: 12.26 | O7: 14.6 | P7: 17 | Z7: {=LINEST(E7:P7, E3:P3^{1;2})} -> 0.00018296511 | AA7: -0.0052085124 | AB7: -0.35390162 | AC7: =AB7-AD7 -> -1.687235 | AD7: =-B7/Parameters!$C$3*1000 -> 1.3333333 | AE7: =(-AA7+(AA7^2-4*Z7*AC7)^0.5)/(2*Z7) -> 111.31203
B8: -3 | G8: 0 | H8: 0.4 | I8: 0.86 | J8: 1.6 | K8: 2.66 | L8: 3.89 | M8: 5.2 | N8: 7 | O8: 8.94 | P8: 11 | Q8: 13.2 | Z8: {=LINEST(G8:Q8, G3:Q3^{1;2})} -> 0.00017892035 | AA8: -0.027430878 | AB8: 0.96779736 | AC8: =AB8-AD8 -> -1.0322026 | AD8: =-B8/Parameters!$C$3*1000 -> 2 | AE8: =(-AA8+(AA8^2-4*Z8*AC8)^0.5)/(2*Z8) -> 184.5701
B9: -4 | I9: 0 | J9: 0.3 | K9: 0.9 | L9: 1.56 | M9: 2.5 | N9: 3.7 | O9: 5 | P9: 6.52 | Q9: 8.1 | R9: 10.1 | S9: 12 | Z9: {=LINEST(I9:R9, I3:R3^{1;2})} -> 0.00015524365 | AA9: -0.036600198 | AB9: 1.9741419 | AC9: =AB9-AD9 -> -0.69252481 | AD9: =-B9/Parameters!$C$3*1000 -> 2.6666667 | AE9: =(-AA9+(AA9^2-4*Z9*AC9)^0.5)/(2*Z9) -> 253.3662
B10: -5 | J10: 0 | K10: 0.2 | L10: 0.63 | M10: 1.16 | N10: 1.9 | O10: 2.8 | P10: 3.86 | Q10: 5 | R10: 6.45 | S10: 7.98 | T10: 9.65 | U10: 11.5 | Z10: {=LINEST(J10:U10, J3:U3^{1;2})} -> 0.00012978011 | AA10: -0.039160308 | AB10: 2.8562223 | AC10: =AB10-AD10 -> -0.47711102 | AD10: =-B10/Parameters!$C$3*1000 -> 3.3333333 | AE10: =(-AA10+(AA10^2-4*Z10*AC10)^0.5)/(2*Z10) -> 313.47124
A11: =((((Parameters!$G$3+((Parameters!$K$13+Parameters!$G$13)/2))^2)+((1/(2*PI()*C17*(Parameters!$H$3/1000000000)))^2))^0.5) -> 765496.63 | B11: -6 | K11: 0 | L11: 0.1 | M11: 0.43 | N11: 0.86 | O11: 1.3 | P11: 1.9 | Q11: 2.6 | R11: 3.5 | S11: 4.6 | T11: 5.95 | U11: 7.36 | V11: 9 | W11: 10.5 | Z11: {=LINEST(K11:W11, K3:W3^{1;2})} -> 0.00011747044 | AA11: -0.047346073 | AB11: 4.8526527 | AC11: =AB11-AD11 -> 0.85265271 | AD11: =-B11/Parameters!$C$3*1000 -> 4 | AE11: =(-AA11+(AA11^2-4*Z11*AC11)^0.5)/(2*Z11) -> 384.15198
B12: -7 | M12: 0 | N12: 0.2 | O12: 0.5 | P12: 0.86 | Q12: 1.37 | R12: 2 | S12: 2.73 | T12: 3.63 | U12: 4.62 | V12: 5.89 | W12: 7.18 | Z12: {=LINEST(M12:W12, M3:W3^{1;2})} -> 0.00010308625 | AA12: -0.04898014 | AB12: 5.8613054 | AC12: =AB12-AD12 -> 1.1946387 | AD12: =-B12/Parameters!$C$3*1000 -> 4.6666667 | AE12: =(-AA12+(AA12^2-4*Z12*AC12)^0.5)/(2*Z12) -> 449.34734
B13: -8 | N13: 0 | O13: 0.1 | P13: 0.4 | Q13: 0.7 | R13: 1.1 | S13: 1.6 | T13: 2.13 | U13: 2.96 | V13: 3.86 | W13: 5 | Z13: {=LINEST(O13:W13, O3:W3^{1;2})} -> 9.7714286e-05 | AA13: -0.054484762 | AB13: 7.7358095 | AC13: =AB13-AD13 -> 2.4024762 | AD13: =-B13/Parameters!$C$3*1000 -> 5.3333333 | AE13: =(-AA13+(AA13^2-4*Z13*AC13)^0.5)/(2*Z13) -> 509.31881
B15: Ia @ Pmax (mA) | C15: - | D15: =('Valve Spec'!$B$2/'Graph Data'!D3)*1000 -> 100 | E15: =('Valve Spec'!$B$2/'Graph Data'!E3)*1000 -> 50 | F15: =('Valve Spec'!$B$2/'Graph Data'!F3)*1000 -> 33.333333 | G15: =('Valve Spec'!$B$2/'Graph Data'!G3)*1000 -> 25 | H15: =('Valve Spec'!$B$2/'Graph Data'!H3)*1000 -> 20 | I15: =('Valve Spec'!$B$2/'Graph Data'!I3)*1000 -> 16.666667 | J15: =('Valve Spec'!$B$2/'Graph Data'!J3)*1000 -> 14.285714 | K15: =('Valve Spec'!$B$2/'Graph Data'!K3)*1000 -> 12.5 | ... W15: =('Valve Spec'!$B$2/'Graph Data'!W3)*1000 -> 5
B17: Frequency (Hz) | C17: 10 | D17: =C17*1.18 -> 11.8 | E17: =D17*1.18 -> 13.924 | F17: =E17*1.18 -> 16.43032 | G17: =F17*1.18 -> 19.387778 | H17: =G17*1.18 -> 22.877578 | I17: =H17*1.18 -> 26.995542 | J17: =I17*1.18 -> 31.854739 | K17: =J17*1.18 -> 37.588592 | ... AR17: =AQ17*1.18 -> 8854.4645 | AS17: 10000
A18: Used for calculating frq' response: | B18: 1+(wCkRk)^2 | C18: =1+((2*PI()*C17*(Parameters!$D$3/1000000)*Parameters!$C$3)^2) -> 5.2991997 | D18: =1+((2*PI()*D17*(Parameters!$D$3/1000000)*Parameters!$C$3)^2) -> 6.9862056 | E18: =1+((2*PI()*E17*(Parameters!$D$3/1000000)*Parameters!$C$3)^2) -> 9.3351927 | F18: =1+((2*PI()*F17*(Parameters!$D$3/1000000)*Parameters!$C$3)^2) -> 12.605922 | G18: =1+((2*PI()*G17*(Parameters!$D$3/1000000)*Parameters!$C$3)^2) -> 17.160086 | H18: =1+((2*PI()*H17*(Parameters!$D$3/1000000)*Parameters!$C$3)^2) -> 23.501304 | I18: =1+((2*PI()*I17*(Parameters!$D$3/1000000)*Parameters!$C$3)^2) -> 32.330816 | J18: =1+((2*PI()*J17*(Parameters!$D$3/1000000)*Parameters!$C$3)^2) -> 44.625028 | ... AS18: =1+((2*PI()*AS17*(Parameters!$D$3/1000000)*Parameters!$C$3)^2) -> 4299200.7
B19: [1+(((mu+1)Rk))/(Ra+ra))]^2 | C19: =(1+((('Valve Spec'!$D$2+1)*Parameters!$C$3)/('Valve Spec'!$E$2+(1/((1/Parameters!$B$3)+(1/Parameters!$G$3))))))^2 -> 4.6110494 | D19: =(1+((('Valve Spec'!$D$2+1)*Parameters!$C$3)/('Valve Spec'!$E$2+(1/((1/Parameters!$B$3)+(1/Parameters!$G$3))))))^2 -> 4.6110494 | E19: =(1+((('Valve Spec'!$D$2+1)*Parameters!$C$3)/('Valve Spec'!$E$2+(1/((1/Parameters!$B$3)+(1/Parameters!$G$3))))))^2 -> 4.6110494 | F19: =(1+((('Valve Spec'!$D$2+1)*Parameters!$C$3)/('Valve Spec'!$E$2+(1/((1/Parameters!$B$3)+(1/Parameters!$G$3))))))^2 -> 4.6110494 | G19: =(1+((('Valve Spec'!$D$2+1)*Parameters!$C$3)/('Valve Spec'!$E$2+(1/((1/Parameters!$B$3)+(1/Parameters!$G$3))))))^2 -> 4.6110494 | H19: =(1+((('Valve Spec'!$D$2+1)*Parameters!$C$3)/('Valve Spec'!$E$2+(1/((1/Parameters!$B$3)+(1/Parameters!$G$3))))))^2 -> 4.6110494 | I19: =(1+((('Valve Spec'!$D$2+1)*Parameters!$C$3)/('Valve Spec'!$E$2+(1/((1/Parameters!$B$3)+(1/Parameters!$G$3))))))^2 -> 4.6110494 | J19: =(1+((('Valve Spec'!$D$2+1)*Parameters!$C$3)/('Valve Spec'!$E$2+(1/((1/Parameters!$B$3)+(1/Parameters!$G$3))))))^2 -> 4.6110494 | ... AS19: =(1+((('Valve Spec'!$D$2+1)*Parameters!$C$3)/('Valve Spec'!$E$2+(1/((1/Parameters!$B$3)+(1/Parameters!$G$3))))))^2 -> 4.6110494
B20: (wCkRk)^2 | C20: =(2*PI()*C17*(Parameters!$D$3/1000000)*Parameters!$C$3)^2 -> 4.2991997 | D20: =(2*PI()*D17*(Parameters!$D$3/1000000)*Parameters!$C$3)^2 -> 5.9862056 | E20: =(2*PI()*E17*(Parameters!$D$3/1000000)*Parameters!$C$3)^2 -> 8.3351927 | F20: =(2*PI()*F17*(Parameters!$D$3/1000000)*Parameters!$C$3)^2 -> 11.605922 | G20: =(2*PI()*G17*(Parameters!$D$3/1000000)*Parameters!$C$3)^2 -> 16.160086 | H20: =(2*PI()*H17*(Parameters!$D$3/1000000)*Parameters!$C$3)^2 -> 22.501304 | I20: =(2*PI()*I17*(Parameters!$D$3/1000000)*Parameters!$C$3)^2 -> 31.330816 | J20: =(2*PI()*J17*(Parameters!$D$3/1000000)*Parameters!$C$3)^2 -> 43.625028 | ... AS20: =(2*PI()*AS17*(Parameters!$D$3/1000000)*Parameters!$C$3)^2 -> 4299199.7
B21: A'/A | C21: =(C18/(C19+C20))^0.5 -> 0.77118792 | D21: =(D18/(D19+D20))^0.5 -> 0.8119401 | E21: =(E18/(E19+E20))^0.5 -> 0.84916049 | F21: =(F18/(F19+F20))^0.5 -> 0.88166263 | G21: =(G18/(G19+G20))^0.5 -> 0.90892827 | H21: =(H18/(H19+H20))^0.5 -> 0.93102721 | I21: =(I18/(I19+I20))^0.5 -> 0.94843599 | J21: =(J18/(J19+J20))^0.5 -> 0.96184094 | ... AS21: =(AS18/(AS19+AS20))^0.5 -> 0.99999958
B22: Voltage gain | C22: =Parameters!$E$13*C21*C23*C24 -> 11.463276 | D22: =Parameters!$E$13*D21*D23*D24 -> 13.951583 | E22: =Parameters!$E$13*E21*E23*E24 -> 16.753915 | F22: =Parameters!$E$13*F21*F23*F24 -> 19.806643 | G22: =Parameters!$E$13*G21*G23*G24 -> 23.015775 | H22: =Parameters!$E$13*H21*H23*H24 -> 26.26376 | I22: =Parameters!$E$13*I21*I23*I24 -> 29.422117 | J22: =Parameters!$E$13*J21*J23*J24 -> 32.368795 | ... AS22: =Parameters!$E$13*AS21*AS23*AS24 -> 4.2929464
B23: LF roll off | C23: =Parameters!$G$3/((((Parameters!$G$3+((Parameters!$K$13+Parameters!$G$13)/2))^2)+((1/(2*PI()*C17*(Parameters!$H$3/1000000000)))^2))^0.5) -> 0.28739513 | D23: =Parameters!$G$3/((((Parameters!$G$3+((Parameters!$K$13+Parameters!$G$13)/2))^2)+((1/(2*PI()*D17*(Parameters!$H$3/1000000000)))^2))^0.5) -> 0.33223078 | E23: =Parameters!$G$3/((((Parameters!$G$3+((Parameters!$K$13+Parameters!$G$13)/2))^2)+((1/(2*PI()*E17*(Parameters!$H$3/1000000000)))^2))^0.5) -> 0.38148729 | F23: =Parameters!$G$3/((((Parameters!$G$3+((Parameters!$K$13+Parameters!$G$13)/2))^2)+((1/(2*PI()*F17*(Parameters!$H$3/1000000000)))^2))^0.5) -> 0.43439053 | G23: =Parameters!$G$3/((((Parameters!$G$3+((Parameters!$K$13+Parameters!$G$13)/2))^2)+((1/(2*PI()*G17*(Parameters!$H$3/1000000000)))^2))^0.5) -> 0.48965868 | H23: =Parameters!$G$3/((((Parameters!$G$3+((Parameters!$K$13+Parameters!$G$13)/2))^2)+((1/(2*PI()*H17*(Parameters!$H$3/1000000000)))^2))^0.5) -> 0.54554125 | I23: =Parameters!$G$3/((((Parameters!$G$3+((Parameters!$K$13+Parameters!$G$13)/2))^2)+((1/(2*PI()*I17*(Parameters!$H$3/1000000000)))^2))^0.5) -> 0.5999962 | J23: =Parameters!$G$3/((((Parameters!$G$3+((Parameters!$K$13+Parameters!$G$13)/2))^2)+((1/(2*PI()*J17*(Parameters!$H$3/1000000000)))^2))^0.5) -> 0.65099082 | ... AS23: =Parameters!$G$3/((((Parameters!$G$3+((Parameters!$K$13+Parameters!$G$13)/2))^2)+((1/(2*PI()*AS17*(Parameters!$H$3/1000000000)))^2))^0.5) -> 0.87906944
B24: HF roll-off | C24: =(((1/(2*PI()*C17*(Parameters!$H$13/1000000000000)))^2)/((Parameters!$E$3^2)+((1/(2*PI()*C17*(Parameters!$H$13/1000000000000)))^2)))^0.5 -> 0.99994441 | D24: =(((1/(2*PI()*D17*(Parameters!$H$13/1000000000000)))^2)/((Parameters!$E$3^2)+((1/(2*PI()*D17*(Parameters!$H$13/1000000000000)))^2)))^0.5 -> 0.9999226 | E24: =(((1/(2*PI()*E17*(Parameters!$H$13/1000000000000)))^2)/((Parameters!$E$3^2)+((1/(2*PI()*E17*(Parameters!$H$13/1000000000000)))^2)))^0.5 -> 0.99989224 | F24: =(((1/(2*PI()*F17*(Parameters!$H$13/1000000000000)))^2)/((Parameters!$E$3^2)+((1/(2*PI()*F17*(Parameters!$H$13/1000000000000)))^2)))^0.5 -> 0.99984996 | G24: =(((1/(2*PI()*G17*(Parameters!$H$13/1000000000000)))^2)/((Parameters!$E$3^2)+((1/(2*PI()*G17*(Parameters!$H$13/1000000000000)))^2)))^0.5 -> 0.99979111 | H24: =(((1/(2*PI()*H17*(Parameters!$H$13/1000000000000)))^2)/((Parameters!$E$3^2)+((1/(2*PI()*H17*(Parameters!$H$13/1000000000000)))^2)))^0.5 -> 0.99970917 | I24: =(((1/(2*PI()*I17*(Parameters!$H$13/1000000000000)))^2)/((Parameters!$E$3^2)+((1/(2*PI()*I17*(Parameters!$H$13/1000000000000)))^2)))^0.5 -> 0.99959512 | J24: =(((1/(2*PI()*J17*(Parameters!$H$13/1000000000000)))^2)/((Parameters!$E$3^2)+((1/(2*PI()*J17*(Parameters!$H$13/1000000000000)))^2)))^0.5 -> 0.99943638 | ... AS24: =(((1/(2*PI()*AS17*(Parameters!$H$13/1000000000000)))^2)/((Parameters!$E$3^2)+((1/(2*PI()*AS17*(Parameters!$H$13/1000000000000)))^2)))^0.5 -> 0.094414609
B25: dB gain | C25: =(LOG10(C22))*20 -> 21.186175 | D25: =(LOG10(D22))*20 -> 22.89247 | E25: =(LOG10(E22))*20 -> 24.482326 | F25: =(LOG10(F22))*20 -> 25.936217 | G25: =(LOG10(G22))*20 -> 27.240512 | H25: =(LOG10(H22))*20 -> 28.387138 | I25: =(LOG10(I22))*20 -> 29.373478 | J25: =(LOG10(J22))*20 -> 30.202531 | ... AS25: =(LOG10(AS22))*20 -> 12.655109
Z27: Polynomial coefficients | AD27: Cathode load line
A28: ECC82 | Z28: a | AA28: b | AB28: c | AC28: c-Y | AD28: Ia | AE28: Va
A29: Ia (mA) | B29: Vg =0 | C29: 0 | D29: 2.5 | E29: 5.11 | F29: 8.25 | G29: 12 | H29: 16 | I29: 20 | J29: 24 | Z29: {=LINEST(C29:J29, C3:J3^{1;2})} -> 0.00024685714 | AA29: 0.095809524 | AB29: -0.10083333 | AC29: =AB29-AD29 -> -0.10083333 | AD29: =0/Parameters!$C$3*1000 -> 0 | AE29: 0
B30: -2 | C30: 0 | D30: 0.25 | E30: 1.5 | F30: 3.5 | G30: 6 | H30: 9.29 | I30: 13 | J30: 17 | K30: 21.2 | Z30: {=LINEST(C30:K30, C3:K3^{1;2})} -> 0.00045180952 | AA30: 0.018864762 | AB30: -0.316 | AC30: =AB30-AD30 -> -1.6493333 | AD30: =-B30/Parameters!$C$3*1000 -> 1.3333333 | AE30: =(-AA30+(AA30^2-4*Z30*AC30)^0.5)/(2*Z30) -> 43.047674
B31: -4 | D31: 0 | E31: 0.2 | F31: 1 | G31: 2.5 | H31: 4.51 | I31: 7.5 | J31: 10.87 | K31: 14.5 | L31: 18.6 | M31: 23 | Z31: {=LINEST(D31:M31, D3:M3^{1;2})} -> 0.00043360364 | AA31: -0.014997417 | AB31: -0.12330888 | AC31: =AB31-AD31 -> -2.7899755 | AD31: =-B31/Parameters!$C$3*1000 -> 2.6666667 | AE31: =(-AA31+(AA31^2-4*Z31*AC31)^0.5)/(2*Z31) -> 99.351656
B32: -6 | E32: 0 | F32: 0.1 | G32: 0.75 | H32: 1.9 | I32: 3.64 | J32: 6.25 | K32: 9.4 | L32: 13 | M32: 17 | N32: 21 | Z32: {=LINEST(E32:N32, E3:N3^{1;2})} -> 0.00044347125 | AA32: -0.0488938 | AB32: 1.2355542 | AC32: =AB32-AD32 -> -2.7644458 | AD32: =-B32/Parameters!$C$3*1000 -> 4 | AE32: =(-AA32+(AA32^2-4*Z32*AC32)^0.5)/(2*Z32) -> 151.42034
B33: -8 | F33: 0 | G33: 0.1 | H33: 0.6 | I33: 1.6 | J33: 3.1 | K33: 5.2 | L33: 8.04 | M33: 11.63 | N33: 15.5 | O33: 19.62 | Z33: {=LINEST(F33:O33, F3:O3^{1;2})} -> 0.00045430026 | AA33: -0.082961277 | AB33: 3.7668432 | AC33: =AB33-AD33 -> -1.5664901 | AD33: =-B33/Parameters!$C$3*1000 -> 5.3333333 | AE33: =(-AA33+(AA33^2-4*Z33*AC33)^0.5)/(2*Z33) -> 199.8656
B34: -10 | H34: 0 | I34: 0.5 | J34: 1.2 | K34: 2.61 | L34: 4.62 | M34: 7.17 | N34: 10.43 | O34: 14 | P34: 18 | Z34: {=LINEST(H34:P34, H3:P3^{1;2})} -> 0.00044293944 | AA34: -0.1089798 | AB34: 6.7432955 | AC34: =AB34-AD34 -> 0.076628868 | AD34: =-B34/Parameters!$C$3*1000 -> 6.6666667 | AE34: =(-AA34+(AA34^2-4*Z34*AC34)^0.5)/(2*Z34) -> 245.33252
B35: -12 | I35: 0 | J35: 0.4 | K35: 1 | L35: 2.39 | M35: 4.2 | N35: 6.74 | O35: 9.8 | P35: 13 | Q35: 16.36 | Z35: {=LINEST(I35:Q35, I3:Q3^{1;2})} -> 0.00039396903 | AA35: -0.11348262 | AB35: 8.0859803 | AC35: =AB35-AD35 -> 0.085980256 | AD35: =-B35/Parameters!$C$3*1000 -> 8 | AE35: =(-AA35+(AA35^2-4*Z35*AC35)^0.5)/(2*Z35) -> 287.28995
B36: -14 | J36: 0 | K36: 0.3 | L36: 1 | M36: 2.28 | N36: 3.91 | O36: 5.87 | P36: 8.37 | Q36: 11.41 | R36: 14.5 | Z36: {=LINEST(J36:R36, J3:R3^{1;2})} -> 0.0003405419 | AA36: -0.11413659 | AB36: 9.5036641 | AC36: =AB36-AD36 -> 0.17033076 | AD36: =-B36/Parameters!$C$3*1000 -> 9.3333333 | AE36: =(-AA36+(AA36^2-4*Z36*AC36)^0.5)/(2*Z36) -> 333.66262
B37: -16 | K37: 0 | L37: 0.4 | M37: 1 | N37: 2 | O37: 3.4 | P37: 5.11 | Q37: 7.39 | R37: 10.27 | Z37: {=LINEST(K37:R37, K3:R3^{1;2})} -> 0.0003268103 | AA37: -0.13045407 | AB37: 13.114201 | AC37: =AB37-AD37 -> 2.4475345 | AD37: =-B37/Parameters!$C$3*1000 -> 10.666667 | AE37: =(-AA37+(AA37^2-4*Z37*AC37)^0.5)/(2*Z37) -> 379.43607
B38: -18 | L38: 0 | M38: 0.4 | N38: 0.87 | O38: 1.68 | P38: 3 | Q38: 4.78 | R38: 7 | Z38: {=LINEST(L38:R38, L3:R3^{1;2})} -> 0.00031826697 | AA38: -0.14541867 | AB38: 16.719055 | AC38: =AB38-AD38 -> 4.7190546 | AD38: =-B38/Parameters!$C$3*1000 -> 12 | AE38: =(-AA38+(AA38^2-4*Z38*AC38)^0.5)/(2*Z38) -> 421.75122
B39: -20 | M39: 0 | N39: 0.1 | O39: 0.6 | P39: 1.47 | Q39: 2.72 | R39: 4.51 | Z39: {=LINEST(M39:R39, M3:R3^{1;2})} -> 0.00032714286 | AA39: -0.16871571 | AB39: 21.746429 | AC39: =AB39-AD39 -> 8.4130952 | AD39: =-B39/Parameters!$C$3*1000 -> 13.333333 | AE39: =(-AA39+(AA39^2-4*Z39*AC39)^0.5)/(2*Z39) -> 459.79351
B41: Ia @ Pmax (mA) | C41: - | D41: =('Valve Spec'!$B$3/'Graph Data'!D3)*1000 -> 110 | E41: =('Valve Spec'!$B$3/'Graph Data'!E3)*1000 -> 55 | F41: =('Valve Spec'!$B$3/'Graph Data'!F3)*1000 -> 36.666667 | G41: =('Valve Spec'!$B$3/'Graph Data'!G3)*1000 -> 27.5 | H41: =('Valve Spec'!$B$3/'Graph Data'!H3)*1000 -> 22 | I41: =('Valve Spec'!$B$3/'Graph Data'!I3)*1000 -> 18.333333 | J41: =('Valve Spec'!$B$3/'Graph Data'!J3)*1000 -> 15.714286 | K41: =('Valve Spec'!$B$3/'Graph Data'!K3)*1000 -> 13.75 | ... W41: =('Valve Spec'!$B$3/'Graph Data'!W3)*1000 -> 5.5
B43: Frequency (Hz) | C43: 10 | D43: =C43*1.18 -> 11.8 | E43: =D43*1.18 -> 13.924 | F43: =E43*1.18 -> 16.43032 | G43: =F43*1.18 -> 19.387778 | H43: =G43*1.18 -> 22.877578 | I43: =H43*1.18 -> 26.995542 | J43: =I43*1.18 -> 31.854739 | K43: =J43*1.18 -> 37.588592 | ... AR43: =AQ43*1.18 -> 8854.4645 | AS43: 10000
A44: Used for calculating frq' response: | B44: 1+(wCkRk)^2 | C44: =1+((2*PI()*C43*(Parameters!$D$3/1000000)*Parameters!$C$3)^2) -> 5.2991997 | D44: =1+((2*PI()*D43*(Parameters!$D$3/1000000)*Parameters!$C$3)^2) -> 6.9862056 | E44: =1+((2*PI()*E43*(Parameters!$D$3/1000000)*Parameters!$C$3)^2) -> 9.3351927 | F44: =1+((2*PI()*F43*(Parameters!$D$3/1000000)*Parameters!$C$3)^2) -> 12.605922 | G44: =1+((2*PI()*G43*(Parameters!$D$3/1000000)*Parameters!$C$3)^2) -> 17.160086 | H44: =1+((2*PI()*H43*(Parameters!$D$3/1000000)*Parameters!$C$3)^2) -> 23.501304 | I44: =1+((2*PI()*I43*(Parameters!$D$3/1000000)*Parameters!$C$3)^2) -> 32.330816 | J44: =1+((2*PI()*J43*(Parameters!$D$3/1000000)*Parameters!$C$3)^2) -> 44.625028 | ... AS44: =1+((2*PI()*AS43*(Parameters!$D$3/1000000)*Parameters!$C$3)^2) -> 4299200.7
B45: [1+(((mu+1)Rk))/(Ra+ra))]^2 | C45: =(1+((('Valve Spec'!$D$3+1)*Parameters!$C$3)/('Valve Spec'!$E$3+(1/((1/Parameters!$B$3)+(1/Parameters!$G$3))))))^2 -> 1.9373876 | D45: =(1+((('Valve Spec'!$D$3+1)*Parameters!$C$3)/('Valve Spec'!$E$3+(1/((1/Parameters!$B$3)+(1/Parameters!$G$3))))))^2 -> 1.9373876 | E45: =(1+((('Valve Spec'!$D$3+1)*Parameters!$C$3)/('Valve Spec'!$E$3+(1/((1/Parameters!$B$3)+(1/Parameters!$G$3))))))^2 -> 1.9373876 | F45: =(1+((('Valve Spec'!$D$3+1)*Parameters!$C$3)/('Valve Spec'!$E$3+(1/((1/Parameters!$B$3)+(1/Parameters!$G$3))))))^2 -> 1.9373876 | G45: =(1+((('Valve Spec'!$D$3+1)*Parameters!$C$3)/('Valve Spec'!$E$3+(1/((1/Parameters!$B$3)+(1/Parameters!$G$3))))))^2 -> 1.9373876 | H45: =(1+((('Valve Spec'!$D$3+1)*Parameters!$C$3)/('Valve Spec'!$E$3+(1/((1/Parameters!$B$3)+(1/Parameters!$G$3))))))^2 -> 1.9373876 | I45: =(1+((('Valve Spec'!$D$3+1)*Parameters!$C$3)/('Valve Spec'!$E$3+(1/((1/Parameters!$B$3)+(1/Parameters!$G$3))))))^2 -> 1.9373876 | J45: =(1+((('Valve Spec'!$D$3+1)*Parameters!$C$3)/('Valve Spec'!$E$3+(1/((1/Parameters!$B$3)+(1/Parameters!$G$3))))))^2 -> 1.9373876 | ... AS45: =(1+((('Valve Spec'!$D$3+1)*Parameters!$C$3)/('Valve Spec'!$E$3+(1/((1/Parameters!$B$3)+(1/Parameters!$G$3))))))^2 -> 1.9373876
B46: (wCkRk)^2 | C46: =(2*PI()*C43*(Parameters!$D$3/1000000)*Parameters!$C$3)^2 -> 4.2991997 | D46: =(2*PI()*D43*(Parameters!$D$3/1000000)*Parameters!$C$3)^2 -> 5.9862056 | E46: =(2*PI()*E43*(Parameters!$D$3/1000000)*Parameters!$C$3)^2 -> 8.3351927 | F46: =(2*PI()*F43*(Parameters!$D$3/1000000)*Parameters!$C$3)^2 -> 11.605922 | G46: =(2*PI()*G43*(Parameters!$D$3/1000000)*Parameters!$C$3)^2 -> 16.160086 | H46: =(2*PI()*H43*(Parameters!$D$3/1000000)*Parameters!$C$3)^2 -> 22.501304 | I46: =(2*PI()*I43*(Parameters!$D$3/1000000)*Parameters!$C$3)^2 -> 31.330816 | J46: =(2*PI()*J43*(Parameters!$D$3/1000000)*Parameters!$C$3)^2 -> 43.625028 | ... AS46: =(2*PI()*AS43*(Parameters!$D$3/1000000)*Parameters!$C$3)^2 -> 4299199.7
B47: A'/A | C47: =(C44/(C45+C46))^0.5 -> 0.92178925 | D47: =(D44/(D45+D46))^0.5 -> 0.93898703 | E47: =(E44/(E45+E46))^0.5 -> 0.95328305 | F47: =(F44/(F45+F46))^0.5 -> 0.96477248 | G47: =(G44/(G45+G46))^0.5 -> 0.97375736 | H47: =(H44/(H45+H46))^0.5 -> 0.98063413 | I47: =(I44/(I45+I46))^0.5 -> 0.98581099 | J47: =(J44/(J45+J46))^0.5 -> 0.98965969 | ... AS47: =(AS44/(AS45+AS46))^0.5 -> 0.99999989
B48: LF roll-off | C48: =Parameters!$G$3/((((Parameters!$G$3+((Parameters!$K$14+Parameters!$G$14)/2))^2)+((1/(2*PI()*C43*(Parameters!$H$3/1000000000)))^2))^0.5) -> 0.28895379 | D48: =Parameters!$G$3/((((Parameters!$G$3+((Parameters!$K$14+Parameters!$G$14)/2))^2)+((1/(2*PI()*D43*(Parameters!$H$3/1000000000)))^2))^0.5) -> 0.33464527 | E48: =Parameters!$G$3/((((Parameters!$G$3+((Parameters!$K$14+Parameters!$G$14)/2))^2)+((1/(2*PI()*E43*(Parameters!$H$3/1000000000)))^2))^0.5) -> 0.38515557 | F48: =Parameters!$G$3/((((Parameters!$G$3+((Parameters!$K$14+Parameters!$G$14)/2))^2)+((1/(2*PI()*F43*(Parameters!$H$3/1000000000)))^2))^0.5) -> 0.43982968 | G48: =Parameters!$G$3/((((Parameters!$G$3+((Parameters!$K$14+Parameters!$G$14)/2))^2)+((1/(2*PI()*G43*(Parameters!$H$3/1000000000)))^2))^0.5) -> 0.49748928 | H48: =Parameters!$G$3/((((Parameters!$G$3+((Parameters!$K$14+Parameters!$G$14)/2))^2)+((1/(2*PI()*H43*(Parameters!$H$3/1000000000)))^2))^0.5) -> 0.55643389 | I48: =Parameters!$G$3/((((Parameters!$G$3+((Parameters!$K$14+Parameters!$G$14)/2))^2)+((1/(2*PI()*I43*(Parameters!$H$3/1000000000)))^2))^0.5) -> 0.61457934 | J48: =Parameters!$G$3/((((Parameters!$G$3+((Parameters!$K$14+Parameters!$G$14)/2))^2)+((1/(2*PI()*J43*(Parameters!$H$3/1000000000)))^2))^0.5) -> 0.66973947 | ... AS48: =Parameters!$G$3/((((Parameters!$G$3+((Parameters!$K$14+Parameters!$G$14)/2))^2)+((1/(2*PI()*AS43*(Parameters!$H$3/1000000000)))^2))^0.5) -> 0.92696196
B49: HF roll--off | C49: =(((1/(2*PI()*C43*(Parameters!$H$14/1000000000000)))^2)/((Parameters!$E$3^2)+((1/(2*PI()*C43*(Parameters!$H$14/1000000000000)))^2)))^0.5 -> 0.99999409 | D49: =(((1/(2*PI()*D43*(Parameters!$H$14/1000000000000)))^2)/((Parameters!$E$3^2)+((1/(2*PI()*D43*(Parameters!$H$14/1000000000000)))^2)))^0.5 -> 0.99999178 | E49: =(((1/(2*PI()*E43*(Parameters!$H$14/1000000000000)))^2)/((Parameters!$E$3^2)+((1/(2*PI()*E43*(Parameters!$H$14/1000000000000)))^2)))^0.5 -> 0.99998855 | F49: =(((1/(2*PI()*F43*(Parameters!$H$14/1000000000000)))^2)/((Parameters!$E$3^2)+((1/(2*PI()*F43*(Parameters!$H$14/1000000000000)))^2)))^0.5 -> 0.99998406 | G49: =(((1/(2*PI()*G43*(Parameters!$H$14/1000000000000)))^2)/((Parameters!$E$3^2)+((1/(2*PI()*G43*(Parameters!$H$14/1000000000000)))^2)))^0.5 -> 0.9999778 | H49: =(((1/(2*PI()*H43*(Parameters!$H$14/1000000000000)))^2)/((Parameters!$E$3^2)+((1/(2*PI()*H43*(Parameters!$H$14/1000000000000)))^2)))^0.5 -> 0.99996909 | I49: =(((1/(2*PI()*I43*(Parameters!$H$14/1000000000000)))^2)/((Parameters!$E$3^2)+((1/(2*PI()*I43*(Parameters!$H$14/1000000000000)))^2)))^0.5 -> 0.99995696 | J49: =(((1/(2*PI()*J43*(Parameters!$H$14/1000000000000)))^2)/((Parameters!$E$3^2)+((1/(2*PI()*J43*(Parameters!$H$14/1000000000000)))^2)))^0.5 -> 0.99994008 | ... AS49: =(((1/(2*PI()*AS43*(Parameters!$H$14/1000000000000)))^2)/((Parameters!$E$3^2)+((1/(2*PI()*AS43*(Parameters!$H$14/1000000000000)))^2)))^0.5 -> 0.2793817
B50: Voltage gain | C50: =Parameters!$E$14*C47*C48*C49 -> 4.5450491 | D50: =Parameters!$E$14*D47*D48*D49 -> 5.3619385 | E50: =Parameters!$E$14*E47*E48*E49 -> 6.2651892 | F50: =Parameters!$E$14*F47*F48*F49 -> 7.2407512 | G50: =Parameters!$E$14*G47*G48*G49 -> 8.2662008 | H50: =Parameters!$E$14*H47*H48*H49 -> 9.3108272 | I50: =Parameters!$E$14*I47*I48*I49 -> 10.337941 | J50: =Parameters!$E$14*J47*J48*J49 -> 11.30959 | ... AS50: =Parameters!$E$14*AS47*AS48*AS49 -> 4.4191723
B51: dB gain | C51: =(LOG10(C50))*20 -> 13.150772 | D51: =(LOG10(D50))*20 -> 14.586437 | E51: =(LOG10(E50))*20 -> 15.938684 | F51: =(LOG10(F50))*20 -> 17.195673 | G51: =(LOG10(G50))*20 -> 18.346119 | H51: =(LOG10(H50))*20 -> 19.379765 | I51: =(LOG10(I50))*20 -> 20.288681 | J51: =(LOG10(J50))*20 -> 21.068937 | ... AS51: =(LOG10(AS50))*20 -> 12.906819
Z53: Polynomial coefficients | AD53: Cathode load line
A54: ECC83 | Z54: a | AA54: b | AB54: c | AC54: c-Y | AD54: Ia | AE54: Va
A55: Ia (mA) | B55: Vg =0 | C55: 0 | D55: 0.7 | E55: 1.15 | F55: 1.62 | G55: 2.12 | H55: 2.68 | I55: 3.25 | J55: 3.82 | K55: 4.41 | L55: 5 | Z55: {=LINEST(C55:L55, C3:L3^{1;2})} -> 7.790261e-06 | AA55: 0.019953323 | AB55: 0.088905671 | AC55: =AB55-AD55 -> 0.088905671 | AD55: =0/Parameters!$C$3*1000 -> 0 | AE55: 0
B56: -0.5 | C56: 0 | D56: 0.2 | E56: 0.46 | F56: 0.8 | G56: 1.2 | H56: 1.63 | I56: 2.13 | J56: 2.7 | K56: 3.28 | L56: 3.89 | M56: 4.5 | Z56: {=LINEST(C56:M56, C3:M3^{1;2})} -> 3.88937e-05 | AA56: 0.008580192 | AB56: -0.035936192 | AC56: =AB56-AD56 -> -0.36926953 | AD56: =-B56/Parameters!$C$3*1000 -> 0.33333333 | AE56: =(-AA56+(AA56^2-4*Z56*AC56)^0.5)/(2*Z56) -> 36.874007
B57: -1 | C57: 0 | D57: 0.02 | E57: 0.08 | F57: 0.24 | G57: 0.48 | H57: 0.77 | I57: 1.15 | J57: 1.6 | K57: 2.12 | L57: 2.72 | M57: 3.3 | N57: 3.88 | Z57: {=LINEST(C57:N57, C$3:N$3^{1;2})} -> 5.2580834e-05 | AA57: 3.5625752e-05 | AB57: -0.029466789 | AC57: =AB57-AD57 -> -0.69613346 | AD57: =-B57/Parameters!$C$3*1000 -> 0.66666667 | AE57: =(-AA57+(AA57^2-4*Z57*AC57)^0.5)/(2*Z57) -> 114.72389
B58: -1.5 | E58: 0 | F58: 0.01 | G58: 0.11 | H58: 0.28 | I58: 0.5 | J58: 0.77 | K58: 1.15 | L58: 1.61 | M58: 2.1 | N58: 2.65 | O58: 3.25 | Z58: {=LINEST(E58:O58, E$3:O$3^{1;2})} -> 5.3582305e-05 | AA58: -0.0056448798 | AB58: 0.14015387 | AC58: =AB58-AD58 -> -0.85984613 | AD58: =-B58/Parameters!$C$3*1000 -> 1 | AE58: =(-AA58+(AA58^2-4*Z58*AC58)^0.5)/(2*Z58) -> 189.86757
B59: -2 | G59: 0 | H59: 0.05 | I59: 0.13 | J59: 0.28 | K59: 0.5 | L59: 0.8 | M59: 1.2 | N59: 1.65 | O59: 2.16 | P59: 2.7 | Z59: {=LINEST(G59:P59, G3:P3^{1;2})} -> 5.6113765e-05 | AA59: -0.011796847 | AB59: 0.62911932 | AC59: =AB59-AD59 -> -0.70421401 | AD59: =-B59/Parameters!$C$3*1000 -> 1.3333333 | AE59: =(-AA59+(AA59^2-4*Z59*AC59)^0.5)/(2*Z59) -> 258.73514
B60: -2.5 | H60: 0 | I60: 0.01 | J60: 0.03 | K60: 0.12 | L60: 0.28 | M60: 0.5 | N60: 0.8 | O60: 1.2 | P60: 1.68 | Q60: 2.2 | Z60: {=LINEST(H60:Q60, H3:Q3^{1;2})} -> 5.7613539e-05 | AA60: -0.017764281 | AB60: 1.3532785 | AC60: =AB60-AD60 -> -0.31338812 | AD60: =-B60/Parameters!$C$3*1000 -> 1.6666667 | AE60: =(-AA60+(AA60^2-4*Z60*AC60)^0.5)/(2*Z60) -> 325.06854
B61: -3 | J61: 0 | K61: 0.01 | L61: 0.08 | M61: 0.18 | N61: 0.36 | O61: 0.6 | P61: 0.91 | Q61: 1.3 | R61: 1.7 | Z61: {=LINEST(J61:R61, J3:R3^{1;2})} -> 4.9204217e-05 | AA61: -0.018556611 | AB61: 1.7476479 | AC61: =AB61-AD61 -> -0.25235209 | AD61: =-B61/Parameters!$C$3*1000 -> 2 | AE61: =(-AA61+(AA61^2-4*Z61*AC61)^0.5)/(2*Z61) -> 390.27571
B62: -3.5 | L62: 0 | M62: 0.02 | N62: 0.1 | O62: 0.22 | P62: 0.4 | Q62: 0.62 | R62: 0.95 | Z62: {=LINEST(L62:R62, L3:R3^{1;2})} -> 4.5222332e-05 | AA62: -0.020921887 | AB62: 2.4235824 | AC62: =AB62-AD62 -> 0.09024903 | AD62: =-B62/Parameters!$C$3*1000 -> 2.3333333 | AE62: =(-AA62+(AA62^2-4*Z62*AC62)^0.5)/(2*Z62) -> 458.29042
B63: -4 | N63: 0 | O63: 0.02 | P63: 0.12 | Q63: 0.27 | R63: 0.4 | Z63: {=LINEST(N63:R63, N3:R3^{1;2})} -> 3.0857143e-05 | AA63: -0.015857143 | AB63: 2.0177143 | AC63: =AB63-AD63 -> -0.64895238 | AD63: =-B63/Parameters!$C$3*1000 -> 2.6666667 | AE63: =(-AA63+(AA63^2-4*Z63*AC63)^0.5)/(2*Z63) -> 551.98904
B65: Ia @ Pmax (mA) | C65: - | D65: =('Valve Spec'!$B$4/'Graph Data'!D3)*1000 -> 40 | E65: =('Valve Spec'!$B$4/'Graph Data'!E3)*1000 -> 20 | F65: =('Valve Spec'!$B$4/'Graph Data'!F3)*1000 -> 13.333333 | G65: =('Valve Spec'!$B$4/'Graph Data'!G3)*1000 -> 10 | H65: =('Valve Spec'!$B$4/'Graph Data'!H3)*1000 -> 8 | I65: =('Valve Spec'!$B$4/'Graph Data'!I3)*1000 -> 6.6666667 | J65: =('Valve Spec'!$B$4/'Graph Data'!J3)*1000 -> 5.7142857 | K65: =('Valve Spec'!$B$4/'Graph Data'!K3)*1000 -> 5 | ... R65: =('Valve Spec'!$B$4/'Graph Data'!R3)*1000 -> 2.6666667
B67: Frequency (Hz) | C67: 10 | D67: =C67*1.18 -> 11.8 | E67: =D67*1.18 -> 13.924 | F67: =E67*1.18 -> 16.43032 | G67: =F67*1.18 -> 19.387778 | H67: =G67*1.18 -> 22.877578 | I67: =H67*1.18 -> 26.995542 | J67: =I67*1.18 -> 31.854739 | K67: =J67*1.18 -> 37.588592 | ... AR67: =AQ67*1.18 -> 8854.4645 | AS67: 10000
A68: Used for calculating frq' response: | B68: 1+(wCkRk)^2 | C68: =1+((2*PI()*C67*(Parameters!$D$3/1000000)*Parameters!$C$3)^2) -> 5.2991997 | D68: =1+((2*PI()*D67*(Parameters!$D$3/1000000)*Parameters!$C$3)^2) -> 6.9862056 | E68: =1+((2*PI()*E67*(Parameters!$D$3/1000000)*Parameters!$C$3)^2) -> 9.3351927 | F68: =1+((2*PI()*F67*(Parameters!$D$3/1000000)*Parameters!$C$3)^2) -> 12.605922 | G68: =1+((2*PI()*G67*(Parameters!$D$3/1000000)*Parameters!$C$3)^2) -> 17.160086 | H68: =1+((2*PI()*H67*(Parameters!$D$3/1000000)*Parameters!$C$3)^2) -> 23.501304 | I68: =1+((2*PI()*I67*(Parameters!$D$3/1000000)*Parameters!$C$3)^2) -> 32.330816 | J68: =1+((2*PI()*J67*(Parameters!$D$3/1000000)*Parameters!$C$3)^2) -> 44.625028 | ... AS68: =1+((2*PI()*AS67*(Parameters!$D$3/1000000)*Parameters!$C$3)^2) -> 4299200.7
B69: [1+(((mu+1)Rk))/(Ra+ra))]^2 | C69: =(1+((('Valve Spec'!$D$4+1)*Parameters!$C$3)/('Valve Spec'!$E$4+(1/((1/Parameters!$B$3)+(1/Parameters!$G$3))))))^2 -> 4.6409469 | D69: =(1+((('Valve Spec'!$D$4+1)*Parameters!$C$3)/('Valve Spec'!$E$4+(1/((1/Parameters!$B$3)+(1/Parameters!$G$3))))))^2 -> 4.6409469 | E69: =(1+((('Valve Spec'!$D$4+1)*Parameters!$C$3)/('Valve Spec'!$E$4+(1/((1/Parameters!$B$3)+(1/Parameters!$G$3))))))^2 -> 4.6409469 | F69: =(1+((('Valve Spec'!$D$4+1)*Parameters!$C$3)/('Valve Spec'!$E$4+(1/((1/Parameters!$B$3)+(1/Parameters!$G$3))))))^2 -> 4.6409469 | G69: =(1+((('Valve Spec'!$D$4+1)*Parameters!$C$3)/('Valve Spec'!$E$4+(1/((1/Parameters!$B$3)+(1/Parameters!$G$3))))))^2 -> 4.6409469 | H69: =(1+((('Valve Spec'!$D$4+1)*Parameters!$C$3)/('Valve Spec'!$E$4+(1/((1/Parameters!$B$3)+(1/Parameters!$G$3))))))^2 -> 4.6409469 | I69: =(1+((('Valve Spec'!$D$4+1)*Parameters!$C$3)/('Valve Spec'!$E$4+(1/((1/Parameters!$B$3)+(1/Parameters!$G$3))))))^2 -> 4.6409469 | J69: =(1+((('Valve Spec'!$D$4+1)*Parameters!$C$3)/('Valve Spec'!$E$4+(1/((1/Parameters!$B$3)+(1/Parameters!$G$3))))))^2 -> 4.6409469 | ... AS69: =(1+((('Valve Spec'!$D$4+1)*Parameters!$C$3)/('Valve Spec'!$E$4+(1/((1/Parameters!$B$3)+(1/Parameters!$G$3))))))^2 -> 4.6409469
B70: (wCkRk)^2 | C70: =(2*PI()*C67*(Parameters!$D$3/1000000)*Parameters!$C$3)^2 -> 4.2991997 | D70: =(2*PI()*D67*(Parameters!$D$3/1000000)*Parameters!$C$3)^2 -> 5.9862056 | E70: =(2*PI()*E67*(Parameters!$D$3/1000000)*Parameters!$C$3)^2 -> 8.3351927 | F70: =(2*PI()*F67*(Parameters!$D$3/1000000)*Parameters!$C$3)^2 -> 11.605922 | G70: =(2*PI()*G67*(Parameters!$D$3/1000000)*Parameters!$C$3)^2 -> 16.160086 | H70: =(2*PI()*H67*(Parameters!$D$3/1000000)*Parameters!$C$3)^2 -> 22.501304 | I70: =(2*PI()*I67*(Parameters!$D$3/1000000)*Parameters!$C$3)^2 -> 31.330816 | J70: =(2*PI()*J67*(Parameters!$D$3/1000000)*Parameters!$C$3)^2 -> 43.625028 | ... AS70: =(2*PI()*AS67*(Parameters!$D$3/1000000)*Parameters!$C$3)^2 -> 4299199.7
B71: LF roll-off | C71: =Parameters!$G$3/((((Parameters!$G$3+((Parameters!$K$15+Parameters!$G$15)/2))^2)+((1/(2*PI()*C67*(Parameters!$H$3/1000000000)))^2))^0.5) -> 0.28448143 | D71: =Parameters!$G$3/((((Parameters!$G$3+((Parameters!$K$15+Parameters!$G$15)/2))^2)+((1/(2*PI()*D67*(Parameters!$H$3/1000000000)))^2))^0.5) -> 0.32775242 | E71: =Parameters!$G$3/((((Parameters!$G$3+((Parameters!$K$15+Parameters!$G$15)/2))^2)+((1/(2*PI()*E67*(Parameters!$H$3/1000000000)))^2))^0.5) -> 0.3747503 | F71: =Parameters!$G$3/((((Parameters!$G$3+((Parameters!$K$15+Parameters!$G$15)/2))^2)+((1/(2*PI()*F67*(Parameters!$H$3/1000000000)))^2))^0.5) -> 0.42452111 | G71: =Parameters!$G$3/((((Parameters!$G$3+((Parameters!$K$15+Parameters!$G$15)/2))^2)+((1/(2*PI()*G67*(Parameters!$H$3/1000000000)))^2))^0.5) -> 0.47565065 | H71: =Parameters!$G$3/((((Parameters!$G$3+((Parameters!$K$15+Parameters!$G$15)/2))^2)+((1/(2*PI()*H67*(Parameters!$H$3/1000000000)))^2))^0.5) -> 0.52636545 | I71: =Parameters!$G$3/((((Parameters!$G$3+((Parameters!$K$15+Parameters!$G$15)/2))^2)+((1/(2*PI()*I67*(Parameters!$H$3/1000000000)))^2))^0.5) -> 0.57476115 | J71: =Parameters!$G$3/((((Parameters!$G$3+((Parameters!$K$15+Parameters!$G$15)/2))^2)+((1/(2*PI()*J67*(Parameters!$H$3/1000000000)))^2))^0.5) -> 0.61911012 | ... AS71: =Parameters!$G$3/((((Parameters!$G$3+((Parameters!$K$15+Parameters!$G$15)/2))^2)+((1/(2*PI()*AS67*(Parameters!$H$3/1000000000)))^2))^0.5) -> 0.80495218
B72: HF roll-off | C72: =(((1/(2*PI()*C67*(Parameters!$H$15/1000000000000)))^2)/((Parameters!$E$3^2)+((1/(2*PI()*C67*(Parameters!$H$15/1000000000000)))^2)))^0.5 -> 0.99994348 | D72: =(((1/(2*PI()*D67*(Parameters!$H$15/1000000000000)))^2)/((Parameters!$E$3^2)+((1/(2*PI()*D67*(Parameters!$H$15/1000000000000)))^2)))^0.5 -> 0.99992131 | E72: =(((1/(2*PI()*E67*(Parameters!$H$15/1000000000000)))^2)/((Parameters!$E$3^2)+((1/(2*PI()*E67*(Parameters!$H$15/1000000000000)))^2)))^0.5 -> 0.99989043 | F72: =(((1/(2*PI()*F67*(Parameters!$H$15/1000000000000)))^2)/((Parameters!$E$3^2)+((1/(2*PI()*F67*(Parameters!$H$15/1000000000000)))^2)))^0.5 -> 0.99984745 | G72: =(((1/(2*PI()*G67*(Parameters!$H$15/1000000000000)))^2)/((Parameters!$E$3^2)+((1/(2*PI()*G67*(Parameters!$H$15/1000000000000)))^2)))^0.5 -> 0.9997876 | H72: =(((1/(2*PI()*H67*(Parameters!$H$15/1000000000000)))^2)/((Parameters!$E$3^2)+((1/(2*PI()*H67*(Parameters!$H$15/1000000000000)))^2)))^0.5 -> 0.9997043 | I72: =(((1/(2*PI()*I67*(Parameters!$H$15/1000000000000)))^2)/((Parameters!$E$3^2)+((1/(2*PI()*I67*(Parameters!$H$15/1000000000000)))^2)))^0.5 -> 0.99958833 | J72: =(((1/(2*PI()*J67*(Parameters!$H$15/1000000000000)))^2)/((Parameters!$E$3^2)+((1/(2*PI()*J67*(Parameters!$H$15/1000000000000)))^2)))^0.5 -> 0.99942694 | ... AS72: =(((1/(2*PI()*AS67*(Parameters!$H$15/1000000000000)))^2)/((Parameters!$E$3^2)+((1/(2*PI()*AS67*(Parameters!$H$15/1000000000000)))^2)))^0.5 -> 0.093639367
B73: A'/A | C73: =(C68/(C69+C70))^0.5 -> 0.76989734 | D73: =(D68/(D69+D70))^0.5 -> 0.81079717 | E73: =(E68/(E69+E70))^0.5 -> 0.84818168 | F73: =(F68/(F69+F70))^0.5 -> 0.88085104 | G73: =(G68/(G69+G70))^0.5 -> 0.90827483 | H73: =(H68/(H69+H70))^0.5 -> 0.9305143 | I73: =(I68/(I69+I70))^0.5 -> 0.94804177 | J73: =(J68/(J69+J70))^0.5 -> 0.961543 | ... AS73: =(AS68/(AS69+AS70))^0.5 -> 0.99999958
B74: Voltage gain | C74: =Parameters!$E$15*C73*C71*C72 -> 11.471906 | D74: =Parameters!$E$15*D73*D71*D72 -> 13.918657 | E74: =Parameters!$E$15*E73*E71*E72 -> 16.647793 | F74: =Parameters!$E$15*F73*F71*F72 -> 19.584338 | G74: =Parameters!$E$15*G73*G71*G72 -> 22.624892 | H74: =Parameters!$E$15*H73*H71*H72 -> 25.64811 | I74: =Parameters!$E$15*I73*I71*I72 -> 28.530504 | J74: =Parameters!$E$15*J73*J71*J72 -> 31.164564 | ... AS74: =Parameters!$E$15*AS73*AS71*AS72 -> 3.9482238
B75: dB gain | C75: =(LOG10(C74))*20 -> 21.192712 | D75: =(LOG10(D74))*20 -> 22.871947 | E75: =(LOG10(E74))*20 -> 24.427134 | F75: =(LOG10(F74))*20 -> 25.838178 | G75: =(LOG10(G74))*20 -> 27.09173 | H75: =(LOG10(H74))*20 -> 28.181108 | I75: =(LOG10(I74))*20 -> 29.106189 | J75: =(LOG10(J74))*20 -> 29.873221 | ... AS75: =(LOG10(AS74))*20 -> 11.928035
Z77: Polynomial coefficients | AD77: Cathode load line
A78: E88CC | Z78: a | AA78: b | AB78: c | AC78: c-Y | AD78: Ia | AE78: Va
A79: Ia (mA) | B79: Vg =0 | C79: 0 | D79: 7 | E79: 15 | Z79: {=LINEST(C79:E79, C$3:E$3^{1;2})} -> 0.0008 | AA79: 0.26 | AB79: -1.110223e-15 | AC79: =AB79-AD79 -> -1.110223e-15 | AD79: =0/Parameters!$C$3*1000 -> 0 | AE79: 0
B80: -1 | C80: 0 | D80: 0.7 | E80: 5.5 | F80: 13 | Z80: {=LINEST(C80:F80, C$3:F$3^{1;2})} -> 0.00272 | AA80: -0.0288 | AB80: -0.07 | AC80: =AB80-AD80 -> -0.73666667 | AD80: =-B80/Parameters!$C$3*1000 -> 0.66666667 | AE80: =(-AA80+(AA80^2-4*Z80*AC80)^0.5)/(2*Z80) -> 22.581715
B81: -2 | D81: 0 | E81: 0.3 | F81: 4 | G81: 10.09 | H81: 19 | Z81: {=LINEST(D81:H81, D3:H3^{1;2})} -> 0.0022411429 | AA81: -0.14501143 | AB81: 2.146 | AC81: =AB81-AD81 -> 0.81266667 | AD81: =-B81/Parameters!$C$3*1000 -> 1.3333333 | AE81: =(-AA81+(AA81^2-4*Z81*AC81)^0.5)/(2*Z81) -> 58.506405
B82: -3 | E82: 0 | F82: 0.26 | G82: 2.88 | H82: 8.13 | I82: 16 | Z82: {=LINEST(E82:I82, E3:I3^{1;2})} -> 0.00204 | AA82: -0.24852 | AB82: 7.356 | AC82: =AB82-AD82 -> 5.356 | AD82: =-B82/Parameters!$C$3*1000 -> 2 | AE82: =(-AA82+(AA82^2-4*Z82*AC82)^0.5)/(2*Z82) -> 93.847352
B83: -4 | G83: 0 | H83: 1.4 | I83: 6 | J83: 13.5 | Z83: {=LINEST(G83:J83, G3:J3^{1;2})} -> 0.00244 | AA83: -0.4906 | AB83: 24.645 | AC83: =AB83-AD83 -> 21.978333 | AD83: =-B83/Parameters!$C$3*1000 -> 2.6666667 | AE83: =(-AA83+(AA83^2-4*Z83*AC83)^0.5)/(2*Z83) -> 133.6889
B84: -5 | H84: 0 | I84: 1 | J84: 5 | K84: 12 | L84: 21 | Z84: {=LINEST(H84:L84, H3:L3^{1;2})} -> 0.0020633289 | AA84: -0.51386226 | AB84: 31.865567 | AC84: =AB84-AD84 -> 28.532234 | AD84: =-B84/Parameters!$C$3*1000 -> 3.3333333 | AE84: =(-AA84+(AA84^2-4*Z84*AC84)^0.5)/(2*Z84) -> 165.48152
B85: -6 | I85: 0 | J85: 0.8 | K85: 4.78 | L85: 11.65 | M85: 19.74 | Z85: {=LINEST(I85:M85, I3:M3^{1;2})} -> 0.0020374902 | AA85: -0.61496837 | AB85: 46.27429 | AC85: =AB85-AD85 -> 42.27429 | AD85: =-B85/Parameters!$C$3*1000 -> 4 | AE85: =(-AA85+(AA85^2-4*Z85*AC85)^0.5)/(2*Z85) -> 195.93074
B86: -7 | J86: 0 | K86: 1 | L86: 5 | M86: 11 | N86: 18.9 | Z86: {=LINEST(J86:N86, J3:N3^{1;2})} -> 0.0018542917 | AA86: -0.64323694 | AB86: 55.674417 | AC86: =AB86-AD86 -> 51.00775 | AD86: =-B86/Parameters!$C$3*1000 -> 4.6666667 | AE86: =(-AA86+(AA86^2-4*Z86*AC86)^0.5)/(2*Z86) -> 224.19369
B87: -8 | K87: 0 | L87: 1 | M87: 4.66 | N87: 10.35 | O87: 17.3 | Z87: {=LINEST(K87:O87, K3:O3^{1;2})} -> 0.0016075975 | AA87: -0.62762911 | AB87: 61.063478 | AC87: =AB87-AD87 -> 55.730144 | AD87: =-B87/Parameters!$C$3*1000 -> 5.3333333 | AE87: =(-AA87+(AA87^2-4*Z87*AC87)^0.5)/(2*Z87) -> 253.85112
B88: -9 | L88: 0 | M88: 0.8 | N88: 4.04 | O88: 9.22 | Z88: {=LINEST(L88:O88, L3:O3^{1;2})} -> 0.0017532754 | AA88: -0.79693994 | AB88: 90.532014 | AC88: =AB88-AD88 -> 84.532014 | AD88: =-B88/Parameters!$C$3*1000 -> 6 | AE88: =(-AA88+(AA88^2-4*Z88*AC88)^0.5)/(2*Z88) -> 285.91201
B89: -10 | M89: 0 | N89: 0.8 | O89: 4.22 | Z89: {=LINEST(M89:O89, M$3:O$3^{1;2})} -> 0.002096 | AA89: -1.0684 | AB89: 136.1 | AC89: =AB89-AD89 -> 129.43333 | AD89: =-B89/Parameters!$C$3*1000 -> 6.6666667 | AE89: =(-AA89+(AA89^2-4*Z89*AC89)^0.5)/(2*Z89) -> 311.47333
B91: Ia @ Pmax (mA) | C91: - | D91: =('Valve Spec'!$B$5/'Graph Data'!D$3)*1000 -> 60 | E91: =('Valve Spec'!$B$5/'Graph Data'!E$3)*1000 -> 30 | F91: =('Valve Spec'!$B$5/'Graph Data'!F$3)*1000 -> 20 | G91: =('Valve Spec'!$B$5/'Graph Data'!G$3)*1000 -> 15 | H91: =('Valve Spec'!$B$5/'Graph Data'!H$3)*1000 -> 12 | I91: =('Valve Spec'!$B$5/'Graph Data'!I$3)*1000 -> 10 | J91: =('Valve Spec'!$B$5/'Graph Data'!J$3)*1000 -> 8.5714286 | K91: =('Valve Spec'!$B$5/'Graph Data'!K$3)*1000 -> 7.5 | ... O91: =('Valve Spec'!$B$5/'Graph Data'!O$3)*1000 -> 5
B93: Frequency (Hz) | C93: 10 | D93: =C93*1.18 -> 11.8 | E93: =D93*1.18 -> 13.924 | F93: =E93*1.18 -> 16.43032 | G93: =F93*1.18 -> 19.387778 | H93: =G93*1.18 -> 22.877578 | I93: =H93*1.18 -> 26.995542 | J93: =I93*1.18 -> 31.854739 | K93: =J93*1.18 -> 37.588592 | ... AR93: =AQ93*1.18 -> 8854.4645 | AS93: 10000
A94: Used for calculating frq' response: | B94: 1+(wCkRk)^2 | C94: =1+((2*PI()*C93*(Parameters!$D$3/1000000)*Parameters!$C$3)^2) -> 5.2991997 | D94: =1+((2*PI()*D93*(Parameters!$D$3/1000000)*Parameters!$C$3)^2) -> 6.9862056 | E94: =1+((2*PI()*E93*(Parameters!$D$3/1000000)*Parameters!$C$3)^2) -> 9.3351927 | F94: =1+((2*PI()*F93*(Parameters!$D$3/1000000)*Parameters!$C$3)^2) -> 12.605922 | G94: =1+((2*PI()*G93*(Parameters!$D$3/1000000)*Parameters!$C$3)^2) -> 17.160086 | H94: =1+((2*PI()*H93*(Parameters!$D$3/1000000)*Parameters!$C$3)^2) -> 23.501304 | I94: =1+((2*PI()*I93*(Parameters!$D$3/1000000)*Parameters!$C$3)^2) -> 32.330816 | J94: =1+((2*PI()*J93*(Parameters!$D$3/1000000)*Parameters!$C$3)^2) -> 44.625028 | ... AS94: =1+((2*PI()*AS93*(Parameters!$D$3/1000000)*Parameters!$C$3)^2) -> 4299200.7
B95: [1+(((mu+1)Rk))/(Ra+ra))]^2 | C95: =(1+((('Valve Spec'!$D$5+1)*Parameters!$C$3)/('Valve Spec'!$E$5+(1/((1/Parameters!$B$3)+(1/Parameters!$G$3))))))^2 -> 2.9387755 | D95: =(1+((('Valve Spec'!$D$5+1)*Parameters!$C$3)/('Valve Spec'!$E$5+(1/((1/Parameters!$B$3)+(1/Parameters!$G$3))))))^2 -> 2.9387755 | E95: =(1+((('Valve Spec'!$D$5+1)*Parameters!$C$3)/('Valve Spec'!$E$5+(1/((1/Parameters!$B$3)+(1/Parameters!$G$3))))))^2 -> 2.9387755 | F95: =(1+((('Valve Spec'!$D$5+1)*Parameters!$C$3)/('Valve Spec'!$E$5+(1/((1/Parameters!$B$3)+(1/Parameters!$G$3))))))^2 -> 2.9387755 | G95: =(1+((('Valve Spec'!$D$5+1)*Parameters!$C$3)/('Valve Spec'!$E$5+(1/((1/Parameters!$B$3)+(1/Parameters!$G$3))))))^2 -> 2.9387755 | H95: =(1+((('Valve Spec'!$D$5+1)*Parameters!$C$3)/('Valve Spec'!$E$5+(1/((1/Parameters!$B$3)+(1/Parameters!$G$3))))))^2 -> 2.9387755 | I95: =(1+((('Valve Spec'!$D$5+1)*Parameters!$C$3)/('Valve Spec'!$E$5+(1/((1/Parameters!$B$3)+(1/Parameters!$G$3))))))^2 -> 2.9387755 | J95: =(1+((('Valve Spec'!$D$5+1)*Parameters!$C$3)/('Valve Spec'!$E$5+(1/((1/Parameters!$B$3)+(1/Parameters!$G$3))))))^2 -> 2.9387755 | ... AS95: =(1+((('Valve Spec'!$D$5+1)*Parameters!$C$3)/('Valve Spec'!$E$5+(1/((1/Parameters!$B$3)+(1/Parameters!$G$3))))))^2 -> 2.9387755
B96: (wCkRk)^2 | C96: =(2*PI()*C93*(Parameters!$D$3/1000000)*Parameters!$C$3)^2 -> 4.2991997 | D96: =(2*PI()*D93*(Parameters!$D$3/1000000)*Parameters!$C$3)^2 -> 5.9862056 | E96: =(2*PI()*E93*(Parameters!$D$3/1000000)*Parameters!$C$3)^2 -> 8.3351927 | F96: =(2*PI()*F93*(Parameters!$D$3/1000000)*Parameters!$C$3)^2 -> 11.605922 | G96: =(2*PI()*G93*(Parameters!$D$3/1000000)*Parameters!$C$3)^2 -> 16.160086 | H96: =(2*PI()*H93*(Parameters!$D$3/1000000)*Parameters!$C$3)^2 -> 22.501304 | I96: =(2*PI()*I93*(Parameters!$D$3/1000000)*Parameters!$C$3)^2 -> 31.330816 | J96: =(2*PI()*J93*(Parameters!$D$3/1000000)*Parameters!$C$3)^2 -> 43.625028 | ... AS96: =(2*PI()*AS93*(Parameters!$D$3/1000000)*Parameters!$C$3)^2 -> 4299199.7
B97: A'/A | C97: =(C94/(C95+C96))^0.5 -> 0.85565087 | D97: =(D94/(D95+D96))^0.5 -> 0.88474278 | E97: =(E94/(E95+E96))^0.5 -> 0.90996197 | F97: =(F94/(F95+F96))^0.5 -> 0.93096845 | G97: =(G94/(G95+G96))^0.5 -> 0.94788574 | H97: =(H94/(H95+H96))^0.5 -> 0.96114021 | I97: =(I94/(I95+I96))^0.5 -> 0.97130107 | J97: =(J94/(J95+J96))^0.5 -> 0.97896018 | ... AS97: =(AS94/(AS95+AS96))^0.5 -> 0.99999977
B98: LF roll-off | C98: =Parameters!$G$3/((((Parameters!$G$3+((Parameters!$K$16+Parameters!$G$16)/2))^2)+((1/(2*PI()*C93*(Parameters!$H$3/1000000000)))^2))^0.5) -> 0.28878592 | D98: =Parameters!$G$3/((((Parameters!$G$3+((Parameters!$K$16+Parameters!$G$16)/2))^2)+((1/(2*PI()*D93*(Parameters!$H$3/1000000000)))^2))^0.5) -> 0.3343846 | E98: =Parameters!$G$3/((((Parameters!$G$3+((Parameters!$K$16+Parameters!$G$16)/2))^2)+((1/(2*PI()*E93*(Parameters!$H$3/1000000000)))^2))^0.5) -> 0.38475829 | F98: =Parameters!$G$3/((((Parameters!$G$3+((Parameters!$K$16+Parameters!$G$16)/2))^2)+((1/(2*PI()*F93*(Parameters!$H$3/1000000000)))^2))^0.5) -> 0.43923835 | G98: =Parameters!$G$3/((((Parameters!$G$3+((Parameters!$K$16+Parameters!$G$16)/2))^2)+((1/(2*PI()*G93*(Parameters!$H$3/1000000000)))^2))^0.5) -> 0.49663404 | H98: =Parameters!$G$3/((((Parameters!$G$3+((Parameters!$K$16+Parameters!$G$16)/2))^2)+((1/(2*PI()*H93*(Parameters!$H$3/1000000000)))^2))^0.5) -> 0.55523799 | I98: =Parameters!$G$3/((((Parameters!$G$3+((Parameters!$K$16+Parameters!$G$16)/2))^2)+((1/(2*PI()*I93*(Parameters!$H$3/1000000000)))^2))^0.5) -> 0.61296913 | J98: =Parameters!$G$3/((((Parameters!$G$3+((Parameters!$K$16+Parameters!$G$16)/2))^2)+((1/(2*PI()*J93*(Parameters!$H$3/1000000000)))^2))^0.5) -> 0.66765715 | ... AS98: =Parameters!$G$3/((((Parameters!$G$3+((Parameters!$K$16+Parameters!$G$16)/2))^2)+((1/(2*PI()*AS93*(Parameters!$H$3/1000000000)))^2))^0.5) -> 0.92146443
B99: HF roll-off | C99: =(((1/(2*PI()*C93*(Parameters!$H$16/1000000000000)))^2)/((Parameters!$E$3^2)+((1/(2*PI()*C93*(Parameters!$H$16/1000000000000)))^2)))^0.5 -> 0.99998088 | D99: =(((1/(2*PI()*D93*(Parameters!$H$16/1000000000000)))^2)/((Parameters!$E$3^2)+((1/(2*PI()*D93*(Parameters!$H$16/1000000000000)))^2)))^0.5 -> 0.99997337 | E99: =(((1/(2*PI()*E93*(Parameters!$H$16/1000000000000)))^2)/((Parameters!$E$3^2)+((1/(2*PI()*E93*(Parameters!$H$16/1000000000000)))^2)))^0.5 -> 0.99996293 | F99: =(((1/(2*PI()*F93*(Parameters!$H$16/1000000000000)))^2)/((Parameters!$E$3^2)+((1/(2*PI()*F93*(Parameters!$H$16/1000000000000)))^2)))^0.5 -> 0.99994838 | G99: =(((1/(2*PI()*G93*(Parameters!$H$16/1000000000000)))^2)/((Parameters!$E$3^2)+((1/(2*PI()*G93*(Parameters!$H$16/1000000000000)))^2)))^0.5 -> 0.99992813 | H99: =(((1/(2*PI()*H93*(Parameters!$H$16/1000000000000)))^2)/((Parameters!$E$3^2)+((1/(2*PI()*H93*(Parameters!$H$16/1000000000000)))^2)))^0.5 -> 0.99989993 | I99: =(((1/(2*PI()*I93*(Parameters!$H$16/1000000000000)))^2)/((Parameters!$E$3^2)+((1/(2*PI()*I93*(Parameters!$H$16/1000000000000)))^2)))^0.5 -> 0.99986067 | J99: =(((1/(2*PI()*J93*(Parameters!$H$16/1000000000000)))^2)/((Parameters!$E$3^2)+((1/(2*PI()*J93*(Parameters!$H$16/1000000000000)))^2)))^0.5 -> 0.99980602 | ... AS99: =(((1/(2*PI()*AS93*(Parameters!$H$16/1000000000000)))^2)/((Parameters!$E$3^2)+((1/(2*PI()*AS93*(Parameters!$H$16/1000000000000)))^2)))^0.5 -> 0.15962728
B100: Voltage gain | C100: =Parameters!$E$16*C97*C98*C99 -> 7.851502 | D100: =Parameters!$E$16*D97*D98*D99 -> 9.4002663 | E100: =Parameters!$E$16*E97*E98*E99 -> 11.124578 | F100: =Parameters!$E$16*F97*F98*F99 -> 12.992754 | G100: =Parameters!$E$16*G97*G98*G99 -> 14.957179 | H100: =Parameters!$E$16*H97*H98*H99 -> 16.955511 | I100: =Parameters!$E$16*I97*I98*I99 -> 18.915612 | J100: =Parameters!$E$16*J97*J98*J99 -> 20.764559 | ... AS100: =Parameters!$E$16*AS97*AS98*AS99 -> 4.6738419
B101: dB gain | C101: =(LOG10(C100))*20 -> 17.899055 | D101: =(LOG10(D100))*20 -> 19.462803 | E101: =(LOG10(E100))*20 -> 20.925671 | F101: =(LOG10(F100))*20 -> 22.274024 | G101: =(LOG10(G100))*20 -> 23.496994 | H101: =(LOG10(H100))*20 -> 24.586218 | I101: =(LOG10(I100))*20 -> 25.536408 | J101: =(LOG10(J100))*20 -> 26.346454 | ... AS101: =(LOG10(AS100))*20 -> 13.39348
Z103: Polynomial coefficients | AD103: Cathode load line
A104: 12AY7 | Z104: a | AA104: b | AB104: c | AC104: c-Y | AD104: Ia | AE104: Va
A105: Ia (mA) | B105: Vg =0 | C105: 0 | D105: 1 | E105: 2 | F105: 3 | G105: 4.11 | H105: 5.42 | I105: 6.6 | Z105: {=LINEST(C105:I105, C$3:I$3^{1;2})} -> 5.0857143e-05 | AA105: 0.0363 | AB105: 0.025714286 | AC105: =AB105-AD105 -> 0.025714286 | AD105: =0/Parameters!$C$3*1000 -> 0 | AE105: 0
B106: -1 | C106: 0 | D106: 0.2 | E106: 0.7 | F106: 1.37 | G106: 2.21 | H106: 3.2 | I106: 4.4 | J106: 5.6 | K106: 6.8 | Z106: {=LINEST(C106:K106, C$3:K$3^{1;2})} -> 0.00011828571 | AA106: 0.011429524 | AB106: -0.098666667 | AC106: =AB106-AD106 -> -0.76533333 | AD106: =-B106/Parameters!$C$3*1000 -> 0.66666667 | AE106: =(-AA106+(AA106^2-4*Z106*AC106)^0.5)/(2*Z106) -> 45.518427
B107: -2 | E107: 0 | F107: 0.28 | G107: 0.8 | H107: 1.49 | I107: 2.4 | J107: 3.5 | K107: 4.65 | L107: 5.9 | Z107: {=LINEST(E107:L107, E3:L3^{1;2})} -> 0.0001278014 | AA107: -0.0009945462 | AB107: -0.32913369 | AC107: =AB107-AD107 -> -1.662467 | AD107: =-B107/Parameters!$C$3*1000 -> 1.3333333 | AE107: =(-AA107+(AA107^2-4*Z107*AC107)^0.5)/(2*Z107) -> 118.01086
B108: -3 | F108: 0 | G108: 0.12 | H108: 0.45 | I108: 0.93 | J108: 1.65 | K108: 2.65 | L108: 3.76 | M108: 4.85 | N108: 6.1 | Z108: {=LINEST(F108:N108, F$3:N$3^{1;2})} -> 0.00013593147 | AA108: -0.016352292 | AB108: 0.40576168 | AC108: =AB108-AD108 -> -1.5942383 | AD108: =-B108/Parameters!$C$3*1000 -> 2 | AE108: =(-AA108+(AA108^2-4*Z108*AC108)^0.5)/(2*Z108) -> 184.02863
B109: -4 | G109: 0 | H109: 0.05 | I109: 0.25 | J109: 0.6 | K109: 1.18 | L109: 1.98 | M109: 2.97 | N109: 4.03 | O109: 5.16 | Z109: {=LINEST(G109:O109, G$3:O$3^{1;2})} -> 0.00013928845 | AA109: -0.029473692 | AB109: 1.5409768 | AC109: =AB109-AD109 -> -1.1256898 | AD109: =-B109/Parameters!$C$3*1000 -> 2.6666667 | AE109: =(-AA109+(AA109^2-4*Z109*AC109)^0.5)/(2*Z109) -> 244.63734
B110: -5 | I110: 0 | J110: 0.01 | K110: 0.31 | L110: 0.76 | M110: 1.45 | N110: 2.3 | O110: 3.2 | P110: 4.2 | Z110: {=LINEST(I110:P110, I$3:P$3^{1;2})} -> 0.00013192159 | AA110: -0.037887594 | AB110: 2.6500109 | AC110: =AB110-AD110 -> -0.68332243 | AD110: =-B110/Parameters!$C$3*1000 -> 3.3333333 | AE110: =(-AA110+(AA110^2-4*Z110*AC110)^0.5)/(2*Z110) -> 304.22398
B111: -6 | J111: 0 | K111: 0.05 | L111: 0.2 | M111: 0.53 | N111: 1.1 | O111: 1.79 | P111: 2.6 | Q111: 3.5 | Z111: {=LINEST(J111:Q111, J$3:Q$3^{1;2})} -> 0.0001244903 | AA111: -0.045060586 | AB111: 4.0614841 | AC111: =AB111-AD111 -> 0.061484057 | AD111: =-B111/Parameters!$C$3*1000 -> 4 | AE111: =(-AA111+(AA111^2-4*Z111*AC111)^0.5)/(2*Z111) -> 360.59095
B112: -7 | K112: 0 | L112: 0.02 | M112: 0.1 | N112: 0.39 | O112: 0.8 | P112: 1.37 | Q112: 2.1 | R112: 3 | Z112: {=LINEST(K112:R112, K3:R3^{1;2})} -> 0.00012144083 | AA112: -0.05286027 | AB112: 5.7332423 | AC112: =AB112-AD112 -> 1.0665756 | AD112: =-B112/Parameters!$C$3*1000 -> 4.6666667 | AE112: =(-AA112+(AA112^2-4*Z112*AC112)^0.5)/(2*Z112) -> 414.06507
B113: -8 | M113: 0 | N113: 0.1 | O113: 0.27 | P113: 0.6 | Q113: 1.05 | R113: 1.7 | S113: 2.4 | Z113: {=LINEST(M113:S113, M3:S3^{1;2})} -> 0.00010742857 | AA113: -0.053857143 | AB113: 6.7621429 | AC113: =AB113-AD113 -> 1.4288095 | AD113: =-B113/Parameters!$C$3*1000 -> 5.3333333 | AE113: =(-AA113+(AA113^2-4*Z113*AC113)^0.5)/(2*Z113) -> 473.22455
...
