Workbook

Sheet Parameters
A1: Enter component values below. Observe units!
A2: Vsupply (Volts) | B2: Ra (Ohms) | C2: Rk (Ohms) | D2: Ck (uF) | E2: Rg (Ohms) | F2: Cf (pF) | G2: Rl (Ohms) | H2: Co (nF)
A3: 240 | B3: 100000 | C3: 1500 | D3: 22 | E3: 1000000 | F3: 1.6 | G3: 220000 | H3: 22
D6: The Load Line Plotter
D7: By The Valve Wizard
E11: Bypassed Cathode Only | I11: Unbypassed Cathode Only
B12: HF roll-off due to grid stopping (-3dB) (Hz) | C12: LF output roll-off due to Co and Rl (-3dB) (Hz) | D12: Half-boost frequency (Hz) | E12: Voltage Gain | F12: dB Gain | G12: Anode output impedance (Ohms) | H12: Total input capacitance (pF) | I12: Voltage Gain | J12: dB Gain | K12: Anode output impedance (Ohms) | L12: Cathode ouput impedance (Ohms) | M12: Total input capacitance (pF)
A13: ECC81 | B13: =1/(2*PI()*(H13/1000000000000)*$E$3) -> 948.38255 | C13: =1/(2*PI()*(G13+$G$3)*($H$3/1000000000)) -> 31.465871 | D13: =(1/(2*PI()*$C$3*($D$3/1000000)))*(1+(($C$3*'Valve Spec'!D2+1)/((2*($B$3+'Valve Spec'!E2))+(0.5*(Parameters!$C$3*'Valve Spec'!D2+1)))))^0.5 -> 5.5768014 | E13: =('Valve Spec'!D2*(1/((1/$B$3)+(1/$G$3))))/((1/((1/$B$3)+(1/$G$3)))+'Valve Spec'!E2) -> 51.724138 | F13: =(LOG10(E13))*20 -> 34.273865 | G13: =($B$3*'Valve Spec'!E2)/(Parameters!$B$3+'Valve Spec'!E2) -> 9909.9099 | H13: ='Valve Spec'!G2+(($F$3+'Valve Spec'!F2)*E13) -> 167.81724 | I13: =('Valve Spec'!D2*(1/((1/$B$3)+(1/$G$3))))/((1/((1/$B$3)+(1/$G$3)))+'Valve Spec'!E2+($C$3*('Valve Spec'!D2+1))) -> 24.087591 | J13: =(LOG10(I13))*20 -> 27.635867 | K13: =($B$3*('Valve Spec'!E2+($C$3*('Valve Spec'!D2+1))))/(Parameters!$B$3+'Valve Spec'!E2+($C$3*('Valve Spec'!D2+1))) -> 50617.284 | L13: =1/((1/(($B$3+'Valve Spec'!E2)/('Valve Spec'!D2+1)))+(1/$C$3)) -> 822.22222 | M13: ='Valve Spec'!G2+(($F$3+'Valve Spec'!F2)*I13) -> 79.380292
A14: ECC82 | B14: =1/(2*PI()*(H14/1000000000000)*$E$3) -> 2909.6802 | C14: =1/(2*PI()*(G14+$G$3)*($H$3/1000000000)) -> 31.836186 | D14: =(1/(2*PI()*$C$3*($D$3/1000000)))*(1+(($C$3*'Valve Spec'!D3+1)/((2*($B$3+'Valve Spec'!E3))+(0.5*(Parameters!$C$3*'Valve Spec'!D3+1)))))^0.5 -> 5.113155 | E14: =('Valve Spec'!D3*(1/((1/$B$3)+(1/$G$3))))/((1/((1/$B$3)+(1/$G$3)))+'Valve Spec'!E3) -> 17.06401 | F14: =(LOG10(E14))*20 -> 24.641622 | G14: =($B$3*'Valve Spec'!E3)/(Parameters!$B$3+'Valve Spec'!E3) -> 7235.6215 | H14: ='Valve Spec'!G3+(($F$3+'Valve Spec'!F3)*E14) -> 54.698432 | I14: =('Valve Spec'!D3*(1/((1/$B$3)+(1/$G$3))))/((1/((1/$B$3)+(1/$G$3)))+'Valve Spec'!E3+($C$3*('Valve Spec'!D3+1))) -> 12.259503 | J14: =(LOG10(I14))*20 -> 21.769457 | K14: =($B$3*('Valve Spec'!E3+($C$3*('Valve Spec'!D3+1))))/(Parameters!$B$3+'Valve Spec'!E3+($C$3*('Valve Spec'!D3+1))) -> 27431.06 | L14: =1/((1/(($B$3+'Valve Spec'!E3)/('Valve Spec'!D3+1)))+(1/$C$3)) -> 1173.4398 | M14: ='Valve Spec'!G3+(($F$3+'Valve Spec'!F3)*I14) -> 39.804458
A15: ECC83 | B15: =1/(2*PI()*(H15/1000000000000)*$E$3) -> 940.52617 | C15: =1/(2*PI()*(G15+$G$3)*($H$3/1000000000)) -> 27.989912 | D15: =(1/(2*PI()*$C$3*($D$3/1000000)))*(1+(($C$3*'Valve Spec'!D4+1)/((2*($B$3+'Valve Spec'!E4))+(0.5*(Parameters!$C$3*'Valve Spec'!D4+1)))))^0.5 -> 5.6553288 | E15: =('Valve Spec'!D4*(1/((1/$B$3)+(1/$G$3))))/((1/((1/$B$3)+(1/$G$3)))+'Valve Spec'!E4) -> 52.380952 | F15: =(LOG10(E15))*20 -> 34.383468 | G15: =($B$3*'Valve Spec'!E4)/(Parameters!$B$3+'Valve Spec'!E4) -> 38461.538 | H15: ='Valve Spec'!G4+(($F$3+'Valve Spec'!F4)*E15) -> 169.21905 | I15: =('Valve Spec'!D4*(1/((1/$B$3)+(1/$G$3))))/((1/((1/$B$3)+(1/$G$3)))+'Valve Spec'!E4+($C$3*('Valve Spec'!D4+1))) -> 24.314766 | J15: =(LOG10(I15))*20 -> 27.717402 | K15: =($B$3*('Valve Spec'!E4+($C$3*('Valve Spec'!D4+1))))/(Parameters!$B$3+'Valve Spec'!E4+($C$3*('Valve Spec'!D4+1))) -> 68152.866 | L15: =1/((1/(($B$3+'Valve Spec'!E4)/('Valve Spec'!D4+1)))+(1/$C$3)) -> 776.27389 | M15: ='Valve Spec'!G4+(($F$3+'Valve Spec'!F4)*I15) -> 79.40725
A16: E88CC | B16: =1/(2*PI()*(H16/1000000000000)*$E$3) -> 1617.0071 | C16: =1/(2*PI()*(G16+$G$3)*($H$3/1000000000)) -> 32.50186 | D16: =(1/(2*PI()*$C$3*($D$3/1000000)))*(1+(($C$3*'Valve Spec'!D5+1)/((2*($B$3+'Valve Spec'!E5))+(0.5*(Parameters!$C$3*'Valve Spec'!D5+1)))))^0.5 -> 5.3164963 | E16: =('Valve Spec'!D5*(1/((1/$B$3)+(1/$G$3))))/((1/((1/$B$3)+(1/$G$3)))+'Valve Spec'!E5) -> 31.77521 | F16: =(LOG10(E16))*20 -> 30.041769 | G16: =($B$3*'Valve Spec'!E5)/(Parameters!$B$3+'Valve Spec'!E5) -> 2581.5879 | H16: ='Valve Spec'!G5+(($F$3+'Valve Spec'!F5)*E16) -> 98.42563 | I16: =('Valve Spec'!D5*(1/((1/$B$3)+(1/$G$3))))/((1/((1/$B$3)+(1/$G$3)))+'Valve Spec'!E5+($C$3*('Valve Spec'!D5+1))) -> 18.535539 | J16: =(LOG10(I16))*20 -> 25.360104 | K16: =($B$3*('Valve Spec'!E5+($C$3*('Valve Spec'!D5+1))))/(Parameters!$B$3+'Valve Spec'!E5+($C$3*('Valve Spec'!D5+1))) -> 34917.019 | L16: =1/((1/(($B$3+'Valve Spec'!E5)/('Valve Spec'!D5+1)))+(1/$C$3)) -> 1002.1152 | M16: ='Valve Spec'!G5+(($F$3+'Valve Spec'!F5)*I16) -> 58.706618
A17: 12AY7 | B17: =1/(2*PI()*(H17/1000000000000)*$E$3) -> 1619.0737 | C17: =1/(2*PI()*(G17+$G$3)*($H$3/1000000000)) -> 30.142982 | D17: =(1/(2*PI()*$C$3*($D$3/1000000)))*(1+(($C$3*'Valve Spec'!D6+1)/((2*($B$3+'Valve Spec'!E6))+(0.5*(Parameters!$C$3*'Valve Spec'!D6+1)))))^0.5 -> 5.3558233 | E17: =('Valve Spec'!D6*(1/((1/$B$3)+(1/$G$3))))/((1/((1/$B$3)+(1/$G$3)))+'Valve Spec'!E6) -> 32.266667 | F17: =(LOG10(E17))*20 -> 30.175082 | G17: =($B$3*'Valve Spec'!E6)/(Parameters!$B$3+'Valve Spec'!E6) -> 20000 | H17: ='Valve Spec'!G6+(($F$3+'Valve Spec'!F6)*E17) -> 98.3 | I17: =('Valve Spec'!D6*(1/((1/$B$3)+(1/$G$3))))/((1/((1/$B$3)+(1/$G$3)))+'Valve Spec'!E6+($C$3*('Valve Spec'!D6+1))) -> 18.75969 | J17: =(LOG10(I17))*20 -> 25.464513 | K17: =($B$3*('Valve Spec'!E6+($C$3*('Valve Spec'!D6+1))))/(Parameters!$B$3+'Valve Spec'!E6+($C$3*('Valve Spec'!D6+1))) -> 48051.948 | L17: =1/((1/(($B$3+'Valve Spec'!E6)/('Valve Spec'!D6+1)))+(1/$C$3)) -> 974.02597 | M17: ='Valve Spec'!G6+(($F$3+'Valve Spec'!F6)*I17) -> 57.77907

Sheet Valve Spec
B1: Pmax (W) | C1: Va max (V) | D1: mu | E1: ra (Ohms) | F1: Cga (pF) | G1: Cg to all except anode (pF)
A2: ECC81 | B2: 2.5 | C2: 300 | D2: 60 | E2: 11000 | F2: 1.6 | G2: 2.3 | H2: You may alter any of these values to suit the bias point you're using, but do not change the units.
A3: ECC82 | B3: 2.75 | C3: 300 | D3: 19 | E3: 7800 | F3: 1.5 | G3: 1.8
A4: ECC83 | B4: 1 | C4: 300 | D4: 100 | E4: 62500 | F4: 1.6 | G4: 1.6
A5: E88CC | B5: 1.5 | C5: 220 | D5: 33 | E5: 2650 | F5: 1.4 | G5: 3.1
A6: 12AY7 | B6: 1.65 | C6: 330 | D6: 44 | E6: 25000 | F6: 1.4 | G6: 1.5

Sheet Graph Data
A1: Graph data, do not alter.
B3: X Va (V) | C3: 0 | D3: 25 | E3: 50 | F3: 75 | G3: 100 | H3: 125 | I3: 150 | J3: 175 | K3: 200 | L3: 226.1 | M3: 250 | N3: 275 | O3: 300 | P3: 325 | Q3: 350 | R3: 375 | S3: 400 | T3: 425 | U3: 450 | V3: 475 | W3: 500 | Z3: Polynomial coefficients | AD3: Cathode load line
A4: ECC81 | Z4: a | AA4: b | AB4: c | AC4: c-Y | AD4: Ia | AE4: Va
A5: Ia (mA) | B5: Vg =0 | C5: 0 | D5: 2 | E5: 4 | F5: 6 | G5: 8.2 | H5: 10.5 | I5: 13.2 | J5: 16 | K5: 19 | L5: 22 | M5: 25 | Z5: {=LINEST(C3:M3, C5:M5^{1;2})} -> -0.12151384 | AA5: 12.941106 | AB5: 0.55385931 | AC5: =AB5-AD5 -> 0.55385931 | AD5: =0/Parameters!$C$3*1000 -> 0 | AE5: 0
B6: -1 | C6: 0 | D6: 0.2 | E6: 1 | F6: 2 | G6: 3.3 | H6: 4.83 | I6: 6.78 | J6: 8.87 | K6: 11.18 | L6: 14 | M6: 16.8 | N6: 19.83 | Z6: {=LINEST(C6:N6, C3:N3^{1;2})} -> 0.00021867551 | AA6: 0.012904184 | AB6: -0.1483947 | AC6: =AB6-AD6 -> -0.81506137 | AD6: =-B6/Parameters!$C$3*1000 -> 0.66666667 | AE6: =(-AA6+(AA6^2-4*Z6*AC6)^0.5)/(2*Z6) -> 38.301963
B7: -2 | E7: 0 | F7: 0.3 | G7: 0.9 | H7: 1.73 | I7: 2.83 | J7: 4.2 | K7: 5.91 | L7: 7.93 | M7: 10 | N7: 12.26 | O7: 14.6 | P7: 17 | Z7: {=LINEST(E7:P7, E3:P3^{1;2})} -> 0.00018296511 | AA7: -0.0052085124 | AB7: -0.35390162 | AC7: =AB7-AD7 -> -1.687235 | AD7: =-B7/Parameters!$C$3*1000 -> 1.3333333 | AE7: =(-AA7+(AA7^2-4*Z7*AC7)^0.5)/(2*Z7) -> 111.31203
B8: -3 | G8: 0 | H8: 0.4 | I8: 0.86 | J8: 1.6 | K8: 2.66 | L8: 3.89 | M8: 5.2 | N8: 7 | O8: 8.94 | P8: 11 | Q8: 13.2 | Z8: {=LINEST(G8:Q8, G3:Q3^{1;2})} -> 0.00017892035 | AA8: -0.027430878 | AB8: 0.96779736 | AC8: =AB8-AD8 -> -1.0322026 | AD8: =-B8/Parameters!$C$3*1000 -> 2 | AE8: =(-AA8+(AA8^2-4*Z8*AC8)^0.5)/(2*Z8) -> 184.5701
B9: -4 | I9: 0 | J9: 0.3 | K9: 0.9 | L9: 1.56 | M9: 2.5 | N9: 3.7 | O9: 5 | P9: 6.52 | Q9: 8.1 | R9: 10.1 | S9: 12 | Z9: {=LINEST(I9:R9, I3:R3^{1;2})} -> 0.00015524365 | AA9: -0.036600198 | AB9: 1.9741419 | AC9: =AB9-AD9 -> -0.69252481 | AD9: =-B9/Parameters!$C$3*1000 -> 2.6666667 | AE9: =(-AA9+(AA9^2-4*Z9*AC9)^0.5)/(2*Z9) -> 253.3662
B10: -5 | J10: 0 | K10: 0.2 | L10: 0.63 | M10: 1.16 | N10: 1.9 | O10: 2.8 | P10: 3.86 | Q10: 5 | R10: 6.45 | S10: 7.98 | T10: 9.65 | U10: 11.5 | Z10: {=LINEST(J10:U10, J3:U3^{1;2})} -> 0.00012978011 | AA10: -0.039160308 | AB10: 2.8562223 | AC10: =AB10-AD10 -> -0.47711102 | AD10: =-B10/Parameters!$C$3*1000 -> 3.3333333 | AE10: =(-AA10+(AA10^2-4*Z10*AC10)^0.5)/(2*Z10) -> 313.47124
A11: =((((Parameters!$G$3+((Parameters!$K$13+Parameters!$G$13)/2))^2)+((1/(2*PI()*C17*(Parameters!$H$3/1000000000)))^2))^0.5) -> 765496.63 | B11: -6 | K11: 0 | L11: 0.1 | M11: 0.43 | N11: 0.86 | O11: 1.3 | P11: 1.9 | Q11: 2.6 | R11: 3.5 | S11: 4.6 | T11: 5.95 | U11: 7.36 | V11: 9 | W11: 10.5 | Z11: {=LINEST(K11:W11, K3:W3^{1;2})} -> 0.00011747044 | AA11: -0.047346073 | AB11: 4.8526527 | AC11: =AB11-AD11 -> 0.85265271 | AD11: =-B11/Parameters!$C$3*1000 -> 4 | AE11: =(-AA11+(AA11^2-4*Z11*AC11)^0.5)/(2*Z11) -> 384.15198
B12: -7 | M12: 0 | N12: 0.2 | O12: 0.5 | P12: 0.86 | Q12: 1.37 | R12: 2 | S12: 2.73 | T12: 3.63 | U12: 4.62 | V12: 5.89 | W12: 7.18 | Z12: {=LINEST(M12:W12, M3:W3^{1;2})} -> 0.00010308625 | AA12: -0.04898014 | AB12: 5.8613054 | AC12: =AB12-AD12 -> 1.1946387 | AD12: =-B12/Parameters!$C$3*1000 -> 4.6666667 | AE12: =(-AA12+(AA12^2-4*Z12*AC12)^0.5)/(2*Z12) -> 449.34734
B13: -8 | N13: 0 | O13: 0.1 | P13: 0.4 | Q13: 0.7 | R13: 1.1 | S13: 1.6 | T13: 2.13 | U13: 2.96 | V13: 3.86 | W13: 5 | Z13: {=LINEST(O13:W13, O3:W3^{1;2})} -> 9.7714286e-05 | AA13: -0.054484762 | AB13: 7.7358095 | AC13: =AB13-AD13 -> 2.4024762 | AD13: =-B13/Parameters!$C$3*1000 -> 5.3333333 | AE13: =(-AA13+(AA13^2-4*Z13*AC13)^0.5)/(2*Z13) -> 509.31881
B15: Ia @ Pmax (mA) | C15: - | D15: =('Valve Spec'!$B$2/'Graph Data'!D3)*1000 -> 100 | E15: =('Valve Spec'!$B$2/'Graph Data'!E3)*1000 -> 50 | F15: =('Valve Spec'!$B$2/'Graph Data'!F3)*1000 -> 33.333333 | G15: =('Valve Spec'!$B$2/'Graph Data'!G3)*1000 -> 25 | H15: =('Valve Spec'!$B$2/'Graph Data'!H3)*1000 -> 20 | I15: =('Valve Spec'!$B$2/'Graph Data'!I3)*1000 -> 16.666667 | J15: =('Valve Spec'!$B$2/'Graph Data'!J3)*1000 -> 14.285714 | K15: =('Valve Spec'!$B$2/'Graph Data'!K3)*1000 -> 12.5 | ... W15: =('Valve Spec'!$B$2/'Graph Data'!W3)*1000 -> 5
B17: Frequency (Hz) | C17: 10 | D17: =C17*1.18 -> 11.8 | E17: =D17*1.18 -> 13.924 | F17: =E17*1.18 -> 16.43032 | G17: =F17*1.18 -> 19.387778 | H17: =G17*1.18 -> 22.877578 | I17: =H17*1.18 -> 26.995542 | J17: =I17*1.18 -> 31.854739 | K17: =J17*1.18 -> 37.588592 | ... AR17: =AQ17*1.18 -> 8854.4645 | AS17: 10000
A18: Used for calculating frq' response: | B18: 1+(wCkRk)^2 | C18: =1+((2*PI()*C17*(Parameters!$D$3/1000000)*Parameters!$C$3)^2) -> 5.2991997 | D18: =1+((2*PI()*D17*(Parameters!$D$3/1000000)*Parameters!$C$3)^2) -> 6.9862056 | E18: =1+((2*PI()*E17*(Parameters!$D$3/1000000)*Parameters!$C$3)^2) -> 9.3351927 | F18: =1+((2*PI()*F17*(Parameters!$D$3/1000000)*Parameters!$C$3)^2) -> 12.605922 | G18: =1+((2*PI()*G17*(Parameters!$D$3/1000000)*Parameters!$C$3)^2) -> 17.160086 | H18: =1+((2*PI()*H17*(Parameters!$D$3/1000000)*Parameters!$C$3)^2) -> 23.501304 | I18: =1+((2*PI()*I17*(Parameters!$D$3/1000000)*Parameters!$C$3)^2) -> 32.330816 | J18: =1+((2*PI()*J17*(Parameters!$D$3/1000000)*Parameters!$C$3)^2) -> 44.625028 | ... AS18: =1+((2*PI()*AS17*(Parameters!$D$3/1000000)*Parameters!$C$3)^2) -> 4299200.7
B19: [1+(((mu+1)Rk))/(Ra+ra))]^2 | C19: =(1+((('Valve Spec'!$D$2+1)*Parameters!$C$3)/('Valve Spec'!$E$2+(1/((1/Parameters!$B$3)+(1/Parameters!$G$3))))))^2 -> 4.6110494 | D19: =(1+((('Valve Spec'!$D$2+1)*Parameters!$C$3)/('Valve Spec'!$E$2+(1/((1/Parameters!$B$3)+(1/Parameters!$G$3))))))^2 -> 4.6110494 | E19: =(1+((('Valve Spec'!$D$2+1)*Parameters!$C$3)/('Valve Spec'!$E$2+(1/((1/Parameters!$B$3)+(1/Parameters!$G$3))))))^2 -> 4.6110494 | F19: =(1+((('Valve Spec'!$D$2+1)*Parameters!$C$3)/('Valve Spec'!$E$2+(1/((1/Parameters!$B$3)+(1/Parameters!$G$3))))))^2 -> 4.6110494 | G19: =(1+((('Valve Spec'!$D$2+1)*Parameters!$C$3)/('Valve Spec'!$E$2+(1/((1/Parameters!$B$3)+(1/Parameters!$G$3))))))^2 -> 4.6110494 | H19: =(1+((('Valve Spec'!$D$2+1)*Parameters!$C$3)/('Valve Spec'!$E$2+(1/((1/Parameters!$B$3)+(1/Parameters!$G$3))))))^2 -> 4.6110494 | I19: =(1+((('Valve Spec'!$D$2+1)*Parameters!$C$3)/('Valve Spec'!$E$2+(1/((1/Parameters!$B$3)+(1/Parameters!$G$3))))))^2 -> 4.6110494 | J19: =(1+((('Valve Spec'!$D$2+1)*Parameters!$C$3)/('Valve Spec'!$E$2+(1/((1/Parameters!$B$3)+(1/Parameters!$G$3))))))^2 -> 4.6110494 | ... AS19: =(1+((('Valve Spec'!$D$2+1)*Parameters!$C$3)/('Valve Spec'!$E$2+(1/((1/Parameters!$B$3)+(1/Parameters!$G$3))))))^2 -> 4.6110494
B20: (wCkRk)^2 | C20: =(2*PI()*C17*(Parameters!$D$3/1000000)*Parameters!$C$3)^2 -> 4.2991997 | D20: =(2*PI()*D17*(Parameters!$D$3/1000000)*Parameters!$C$3)^2 -> 5.9862056 | E20: =(2*PI()*E17*(Parameters!$D$3/1000000)*Parameters!$C$3)^2 -> 8.3351927 | F20: =(2*PI()*F17*(Parameters!$D$3/1000000)*Parameters!$C$3)^2 -> 11.605922 | G20: =(2*PI()*G17*(Parameters!$D$3/1000000)*Parameters!$C$3)^2 -> 16.160086 | H20: =(2*PI()*H17*(Parameters!$D$3/1000000)*Parameters!$C$3)^2 -> 22.501304 | I20: =(2*PI()*I17*(Parameters!$D$3/1000000)*Parameters!$C$3)^2 -> 31.330816 | J20: =(2*PI()*J17*(Parameters!$D$3/1000000)*Parameters!$C$3)^2 -> 43.625028 | ... AS20: =(2*PI()*AS17*(Parameters!$D$3/1000000)*Parameters!$C$3)^2 -> 4299199.7
B21: A'/A | C21: =(C18/(C19+C20))^0.5 -> 0.77118792 | D21: =(D18/(D19+D20))^0.5 -> 0.8119401 | E21: =(E18/(E19+E20))^0.5 -> 0.84916049 | F21: =(F18/(F19+F20))^0.5 -> 0.88166263 | G21: =(G18/(G19+G20))^0.5 -> 0.90892827 | H21: =(H18/(H19+H20))^0.5 -> 0.93102721 | I21: =(I18/(I19+I20))^0.5 -> 0.94843599 | J21: =(J18/(J19+J20))^0.5 -> 0.96184094 | ... AS21: =(AS18/(AS19+AS20))^0.5 -> 0.99999958
B22: Voltage gain | C22: =Parameters!$E$13*C21*C23*C24 -> 11.463276 | D22: =Parameters!$E$13*D21*D23*D24 -> 13.951583 | E22: =Parameters!$E$13*E21*E23*E24 -> 16.753915 | F22: =Parameters!$E$13*F21*F23*F24 -> 19.806643 | G22: =Parameters!$E$13*G21*G23*G24 -> 23.015775 | H22: =Parameters!$E$13*H21*H23*H24 -> 26.26376 | I22: =Parameters!$E$13*I21*I23*I24 -> 29.422117 | J22: =Parameters!$E$13*J21*J23*J24 -> 32.368795 | ... AS22: =Parameters!$E$13*AS21*AS23*AS24 -> 4.2929464
B23: LF roll off | C23: =Parameters!$G$3/((((Parameters!$G$3+((Parameters!$K$13+Parameters!$G$13)/2))^2)+((1/(2*PI()*C17*(Parameters!$H$3/1000000000)))^2))^0.5) -> 0.28739513 | D23: =Parameters!$G$3/((((Parameters!$G$3+((Parameters!$K$13+Parameters!$G$13)/2))^2)+((1/(2*PI()*D17*(Parameters!$H$3/1000000000)))^2))^0.5) -> 0.33223078 | E23: =Parameters!$G$3/((((Parameters!$G$3+((Parameters!$K$13+Parameters!$G$13)/2))^2)+((1/(2*PI()*E17*(Parameters!$H$3/1000000000)))^2))^0.5) -> 0.38148729 | F23: =Parameters!$G$3/((((Parameters!$G$3+((Parameters!$K$13+Parameters!$G$13)/2))^2)+((1/(2*PI()*F17*(Parameters!$H$3/1000000000)))^2))^0.5) -> 0.43439053 | G23: =Parameters!$G$3/((((Parameters!$G$3+((Parameters!$K$13+Parameters!$G$13)/2))^2)+((1/(2*PI()*G17*(Parameters!$H$3/1000000000)))^2))^0.5) -> 0.48965868 | H23: =Parameters!$G$3/((((Parameters!$G$3+((Parameters!$K$13+Parameters!$G$13)/2))^2)+((1/(2*PI()*H17*(Parameters!$H$3/1000000000)))^2))^0.5) -> 0.54554125 | I23: =Parameters!$G$3/((((Parameters!$G$3+((Parameters!$K$13+Parameters!$G$13)/2))^2)+((1/(2*PI()*I17*(Parameters!$H$3/1000000000)))^2))^0.5) -> 0.5999962 | J23: =Parameters!$G$3/((((Parameters!$G$3+((Parameters!$K$13+Parameters!$G$13)/2))^2)+((1/(2*PI()*J17*(Parameters!$H$3/1000000000)))^2))^0.5) -> 0.65099082 | ... AS23: =Parameters!$G$3/((((Parameters!$G$3+((Parameters!$K$13+Parameters!$G$13)/2))^2)+((1/(2*PI()*AS17*(Parameters!$H$3/1000000000)))^2))^0.5) -> 0.87906944
B24: HF roll-off | C24: =(((1/(2*PI()*C17*(Parameters!$H$13/1000000000000)))^2)/((Parameters!$E$3^2)+((1/(2*PI()*C17*(Parameters!$H$13/1000000000000)))^2)))^0.5 -> 0.99994441 | D24: =(((1/(2*PI()*D17*(Parameters!$H$13/1000000000000)))^2)/((Parameters!$E$3^2)+((1/(2*PI()*D17*(Parameters!$H$13/1000000000000)))^2)))^0.5 -> 0.9999226 | E24: =(((1/(2*PI()*E17*(Parameters!$H$13/1000000000000)))^2)/((Parameters!$E$3^2)+((1/(2*PI()*E17*(Parameters!$H$13/1000000000000)))^2)))^0.5 -> 0.99989224 | F24: =(((1/(2*PI()*F17*(Parameters!$H$13/1000000000000)))^2)/((Parameters!$E$3^2)+((1/(2*PI()*F17*(Parameters!$H$13/1000000000000)))^2)))^0.5 -> 0.99984996 | G24: =(((1/(2*PI()*G17*(Parameters!$H$13/1000000000000)))^2)/((Parameters!$E$3^2)+((1/(2*PI()*G17*(Parameters!$H$13/1000000000000)))^2)))^0.5 -> 0.99979111 | H24: =(((1/(2*PI()*H17*(Parameters!$H$13/1000000000000)))^2)/((Parameters!$E$3^2)+((1/(2*PI()*H17*(Parameters!$H$13/1000000000000)))^2)))^0.5 -> 0.99970917 | I24: =(((1/(2*PI()*I17*(Parameters!$H$13/1000000000000)))^2)/((Parameters!$E$3^2)+((1/(2*PI()*I17*(Parameters!$H$13/1000000000000)))^2)))^0.5 -> 0.99959512 | J24: =(((1/(2*PI()*J17*(Parameters!$H$13/1000000000000)))^2)/((Parameters!$E$3^2)+((1/(2*PI()*J17*(Parameters!$H$13/1000000000000)))^2)))^0.5 -> 0.99943638 | ... AS24: =(((1/(2*PI()*AS17*(Parameters!$H$13/1000000000000)))^2)/((Parameters!$E$3^2)+((1/(2*PI()*AS17*(Parameters!$H$13/1000000000000)))^2)))^0.5 -> 0.094414609
B25: dB gain | C25: =(LOG10(C22))*20 -> 21.186175 | D25: =(LOG10(D22))*20 -> 22.89247 | E25: =(LOG10(E22))*20 -> 24.482326 | F25: =(LOG10(F22))*20 -> 25.936217 | G25: =(LOG10(G22))*20 -> 27.240512 | H25: =(LOG10(H22))*20 -> 28.387138 | I25: =(LOG10(I22))*20 -> 29.373478 | J25: =(LOG10(J22))*20 -> 30.202531 | ... AS25: =(LOG10(AS22))*20 -> 12.655109
Z27: Polynomial coefficients | AD27: Cathode load line
A28: ECC82 | Z28: a | AA28: b | AB28: c | AC28: c-Y | AD28: Ia | AE28: Va
A29: Ia (mA) | B29: Vg =0 | C29: 0 | D29: 2.5 | E29: 5.11 | F29: 8.25 | G29: 12 | H29: 16 | I29: 20 | J29: 24 | Z29: {=LINEST(C29:J29, C3:J3^{1;2})} -> 0.00024685714 | AA29: 0.095809524 | AB29: -0.10083333 | AC29: =AB29-AD29 -> -0.10083333 | AD29: =0/Parameters!$C$3*1000 -> 0 | AE29: 0
B30: -2 | C30: 0 | D30: 0.25 | E30: 1.5 | F30: 3.5 | G30: 6 | H30: 9.29 | I30: 13 | J30: 17 | K30: 21.2 | Z30: {=LINEST(C30:K30, C3:K3^{1;2})} -> 0.00045180952 | AA30: 0.018864762 | AB30: -0.316 | AC30: =AB30-AD30 -> -1.6493333 | AD30: =-B30/Parameters!$C$3*1000 -> 1.3333333 | AE30: =(-AA30+(AA30^2-4*Z30*AC30)^0.5)/(2*Z30) -> 43.047674
B31: -4 | D31: 0 | E31: 0.2 | F31: 1 | G31: 2.5 | H31: 4.51 | I31: 7.5 | J31: 10.87 | K31: 14.5 | L31: 18.6 | M31: 23 | Z31: {=LINEST(D31:M31, D3:M3^{1;2})} -> 0.00043360364 | AA31: -0.014997417 | AB31: -0.12330888 | AC31: =AB31-AD31 -> -2.7899755 | AD31: =-B31/Parameters!$C$3*1000 -> 2.6666667 | AE31: =(-AA31+(AA31^2-4*Z31*AC31)^0.5)/(2*Z31) -> 99.351656
B32: -6 | E32: 0 | F32: 0.1 | G32: 0.75 | H32: 1.9 | I32: 3.64 | J32: 6.25 | K32: 9.4 | L32: 13 | M32: 17 | N32: 21 | Z32: {=LINEST(E32:N32, E3:N3^{1;2})} -> 0.00044347125 | AA32: -0.0488938 | AB32: 1.2355542 | AC32: =AB32-AD32 -> -2.7644458 | AD32: =-B32/Parameters!$C$3*1000 -> 4 | AE32: =(-AA32+(AA32^2-4*Z32*AC32)^0.5)/(2*Z32) -> 151.42034
B33: -8 | F33: 0 | G33: 0.1 | H33: 0.6 | I33: 1.6 | J33: 3.1 | K33: 5.2 | L33: 8.04 | M33: 11.63 | N33: 15.5 | O33: 19.62 | Z33: {=LINEST(F33:O33, F3:O3^{1;2})} -> 0.00045430026 | AA33: -0.082961277 | AB33: 3.7668432 | AC33: =AB33-AD33 -> -1.5664901 | AD33: =-B33/Parameters!$C$3*1000 -> 5.3333333 | AE33: =(-AA33+(AA33^2-4*Z33*AC33)^0.5)/(2*Z33) -> 199.8656
B34: -10 | H34: 0 | I34: 0.5 | J34: 1.2 | K34: 2.61 | L34: 4.62 | M34: 7.17 | N34: 10.43 | O34: 14 | P34: 18 | Z34: {=LINEST(H34:P34, H3:P3^{1;2})} -> 0.00044293944 | AA34: -0.1089798 | AB34: 6.7432955 | AC34: =AB34-AD34 -> 0.076628868 | AD34: =-B34/Parameters!$C$3*1000 -> 6.6666667 | AE34: =(-AA34+(AA34^2-4*Z34*AC34)^0.5)/(2*Z34) -> 245.33252
B35: -12 | I35: 0 | J35: 0.4 | K35: 1 | L35: 2.39 | M35: 4.2 | N35: 6.74 | O35: 9.8 | P35: 13 | Q35: 16.36 | Z35: {=LINEST(I35:Q35, I3:Q3^{1;2})} -> 0.00039396903 | AA35: -0.11348262 | AB35: 8.0859803 | AC35: =AB35-AD35 -> 0.085980256 | AD35: =-B35/Parameters!$C$3*1000 -> 8 | AE35: =(-AA35+(AA35^2-4*Z35*AC35)^0.5)/(2*Z35) -> 287.28995
B36: -14 | J36: 0 | K36: 0.3 | L36: 1 | M36: 2.28 | N36: 3.91 | O36: 5.87 | P36: 8.37 | Q36: 11.41 | R36: 14.5 | Z36: {=LINEST(J36:R36, J3:R3^{1;2})} -> 0.0003405419 | AA36: -0.11413659 | AB36: 9.5036641 | AC36: =AB36-AD36 -> 0.17033076 | AD36: =-B36/Parameters!$C$3*1000 -> 9.3333333 | AE36: =(-AA36+(AA36^2-4*Z36*AC36)^0.5)/(2*Z36) -> 333.66262
B37: -16 | K37: 0 | L37: 0.4 | M37: 1 | N37: 2 | O37: 3.4 | P37: 5.11 | Q37: 7.39 | R37: 10.27 | Z37: {=LINEST(K37:R37, K3:R3^{1;2})} -> 0.0003268103 | AA37: -0.13045407 | AB37: 13.114201 | AC37: =AB37-AD37 -> 2.4475345 | AD37: =-B37/Parameters!$C$3*1000 -> 10.666667 | AE37: =(-AA37+(AA37^2-4*Z37*AC37)^0.5)/(2*Z37) -> 379.43607
B38: -18 | L38: 0 | M38: 0.4 | N38: 0.87 | O38: 1.68 | P38: 3 | Q38: 4.78 | R38: 7 | Z38: {=LINEST(L38:R38, L3:R3^{1;2})} -> 0.00031826697 | AA38: -0.14541867 | AB38: 16.719055 | AC38: =AB38-AD38 -> 4.7190546 | AD38: =-B38/Parameters!$C$3*1000 -> 12 | AE38: =(-AA38+(AA38^2-4*Z38*AC38)^0.5)/(2*Z38) -> 421.75122
B39: -20 | M39: 0 | N39: 0.1 | O39: 0.6 | P39: 1.47 | Q39: 2.72 | R39: 4.51 | Z39: {=LINEST(M39:R39, M3:R3^{1;2})} -> 0.00032714286 | AA39: -0.16871571 | AB39: 21.746429 | AC39: =AB39-AD39 -> 8.4130952 | AD39: =-B39/Parameters!$C$3*1000 -> 13.333333 | AE39: =(-AA39+(AA39^2-4*Z39*AC39)^0.5)/(2*Z39) -> 459.79351
B41: Ia @ Pmax (mA) | C41: - | D41: =('Valve Spec'!$B$3/'Graph Data'!D3)*1000 -> 110 | E41: =('Valve Spec'!$B$3/'Graph Data'!E3)*1000 -> 55 | F41: =('Valve Spec'!$B$3/'Graph Data'!F3)*1000 -> 36.666667 | G41: =('Valve Spec'!$B$3/'Graph Data'!G3)*1000 -> 27.5 | H41: =('Valve Spec'!$B$3/'Graph Data'!H3)*1000 -> 22 | I41: =('Valve Spec'!$B$3/'Graph Data'!I3)*1000 -> 18.333333 | J41: =('Valve Spec'!$B$3/'Graph Data'!J3)*1000 -> 15.714286 | K41: =('Valve Spec'!$B$3/'Graph Data'!K3)*1000 -> 13.75 | ... W41: =('Valve Spec'!$B$3/'Graph Data'!W3)*1000 -> 5.5
B43: Frequency (Hz) | C43: 10 | D43: =C43*1.18 -> 11.8 | E43: =D43*1.18 -> 13.924 | F43: =E43*1.18 -> 16.43032 | G43: =F43*1.18 -> 19.387778 | H43: =G43*1.18 -> 22.877578 | I43: =H43*1.18 -> 26.995542 | J43: =I43*1.18 -> 31.854739 | K43: =J43*1.18 -> 37.588592 | ... AR43: =AQ43*1.18 -> 8854.4645 | AS43: 10000
A44: Used for calculating frq' response: | B44: 1+(wCkRk)^2 | C44: =1+((2*PI()*C43*(Parameters!$D$3/1000000)*Parameters!$C$3)^2) -> 5.2991997 | D44: =1+((2*PI()*D43*(Parameters!$D$3/1000000)*Parameters!$C$3)^2) -> 6.9862056 | E44: =1+((2*PI()*E43*(Parameters!$D$3/1000000)*Parameters!$C$3)^2) -> 9.3351927 | F44: =1+((2*PI()*F43*(Parameters!$D$3/1000000)*Parameters!$C$3)^2) -> 12.605922 | G44: =1+((2*PI()*G43*(Parameters!$D$3/1000000)*Parameters!$C$3)^2) -> 17.160086 | H44: =1+((2*PI()*H43*(Parameters!$D$3/1000000)*Parameters!$C$3)^2) -> 23.501304 | I44: =1+((2*PI()*I43*(Parameters!$D$3/1000000)*Parameters!$C$3)^2) -> 32.330816 | J44: =1+((2*PI()*J43*(Parameters!$D$3/1000000)*Parameters!$C$3)^2) -> 44.625028 | ... AS44: =1+((2*PI()*AS43*(Parameters!$D$3/1000000)*Parameters!$C$3)^2) -> 4299200.7
B45: [1+(((mu+1)Rk))/(Ra+ra))]^2 | C45: =(1+((('Valve Spec'!$D$3+1)*Parameters!$C$3)/('Valve Spec'!$E$3+(1/((1/Parameters!$B$3)+(1/Parameters!$G$3))))))^2 -> 1.9373876 | D45: =(1+((('Valve Spec'!$D$3+1)*Parameters!$C$3)/('Valve Spec'!$E$3+(1/((1/Parameters!$B$3)+(1/Parameters!$G$3))))))^2 -> 1.9373876 | E45: =(1+((('Valve Spec'!$D$3+1)*Parameters!$C$3)/('Valve Spec'!$E$3+(1/((1/Parameters!$B$3)+(1/Parameters!$G$3))))))^2 -> 1.9373876 | F45: =(1+((('Valve Spec'!$D$3+1)*Parameters!$C$3)/('Valve Spec'!$E$3+(1/((1/Parameters!$B$3)+(1/Parameters!$G$3))))))^2 -> 1.9373876 | G45: =(1+((('Valve Spec'!$D$3+1)*Parameters!$C$3)/('Valve Spec'!$E$3+(1/((1/Parameters!$B$3)+(1/Parameters!$G$3))))))^2 -> 1.9373876 | H45: =(1+((('Valve Spec'!$D$3+1)*Parameters!$C$3)/('Valve Spec'!$E$3+(1/((1/Parameters!$B$3)+(1/Parameters!$G$3))))))^2 -> 1.9373876 | I45: =(1+((('Valve Spec'!$D$3+1)*Parameters!$C$3)/('Valve Spec'!$E$3+(1/((1/Parameters!$B$3)+(1/Parameters!$G$3))))))^2 -> 1.9373876 | J45: =(1+((('Valve Spec'!$D$3+1)*Parameters!$C$3)/('Valve Spec'!$E$3+(1/((1/Parameters!$B$3)+(1/Parameters!$G$3))))))^2 -> 1.9373876 | ... AS45: =(1+((('Valve Spec'!$D$3+1)*Parameters!$C$3)/('Valve Spec'!$E$3+(1/((1/Parameters!$B$3)+(1/Parameters!$G$3))))))^2 -> 1.9373876
B46: (wCkRk)^2 | C46: =(2*PI()*C43*(Parameters!$D$3/1000000)*Parameters!$C$3)^2 -> 4.2991997 | D46: =(2*PI()*D43*(Parameters!$D$3/1000000)*Parameters!$C$3)^2 -> 5.9862056 | E46: =(2*PI()*E43*(Parameters!$D$3/1000000)*Parameters!$C$3)^2 -> 8.3351927 | F46: =(2*PI()*F43*(Parameters!$D$3/1000000)*Parameters!$C$3)^2 -> 11.605922 | G46: =(2*PI()*G43*(Parameters!$D$3/1000000)*Parameters!$C$3)^2 -> 16.160086 | H46: =(2*PI()*H43*(Parameters!$D$3/1000000)*Parameters!$C$3)^2 -> 22.501304 | I46: =(2*PI()*I43*(Parameters!$D$3/1000000)*Parameters!$C$3)^2 -> 31.330816 | J46: =(2*PI()*J43*(Parameters!$D$3/1000000)*Parameters!$C$3)^2 -> 43.625028 | ... AS46: =(2*PI()*AS43*(Parameters!$D$3/1000000)*Parameters!$C$3)^2 -> 4299199.7
...
